Workbook
Name chave: #REF!
Name ddddd: #REF!
Name dfff: #REF!
Name dia: #REF!
Name diam: #REF!
Name DIAMETER: #REF!
Name diametro: #REF!
Name EN: #REF!
Name ENE: #REF!
Name ENI: #REF!
Name ffe: #REF!
Name ffedd: #REF!
Name key: #REF!
Name KEYS: #REF!
Name N: #REF!
Name QUEI: #REF!

Sheet Disclaimer
B1: DISCLAIMER
B3: #VALUE!
B7: =UPPER("Planilhas desenvolvidas para dimensionamento de paraquedas semielíptico") -> PLANILHAS DESENVOLVIDAS PARA DIMENSIONAMENTO DE PARAQUEDAS SEMIELÍPTICO
B9: Desenvolvido por Mateus Vieira, 2020 - 2025 Eng° Aeronáutico e Espacial - PUC Minas | Pesquisador RHAE CNPq EGN - Escola de Guerra Naval - Marinha do Brasil Rebel Aerospace | Diretoria Contato: depaulamateus96@gmail.com RECm 2020 v1. RECm 2025 v2. Agradecimentos: Prof. Me. Silas C. Matos (LJP, BAR); Profª. Drª. Heidi Korzenowski (LJP); Prof. Dr. Carlos H. Marchi (GFCS, UFPR, BAR); Carlos Cássio Oliveira (CEFAB, BAR); Richard Nakka. A todas as equipes, um ótimo trabalho e bons voos!
B20: Legenda | N20: Definições Importantes
B21: 12 | D21: Inputs. São os valores que alimentam a planilha e devem ser informados pelo projetista. | N21: ASL | O21: ALTITUDE (Z): Above Sea Level - Acima do nível do mar.
B23: 55 | D23: Valores que a planilha calcula ou já calculou antes. Não é necessário informar. | N23: AGL | O23: ALTURA (H): Abrove Ground Level - Acima do nível do solo.
B25: 100.03 | D25: Resultados entregues. | N25: ρ | O25: DENSIDADE: Massa específica do ar na altitude Z (km).
B27: 99.333 | D27: Resultados ruins que demandam ações corretivas.
N28: g | O28: GRAVIDADE: Aceleração p/ a altura H (m) e latitude λ (°).
B29: GUIA | D29: Separação ou dica.
B32: Catalogação | N32: Dicas
B33: VIEIRA, Mateus. RECm.24: Software de Projeto de Paraquedas Semielíptico. Versão 2. 30 set. 2024. Disponível em: https://sites.google.com/view/rebel-aero/recuperação. Acesso em: 30 set. 2024. No texto: No final do parágrafo: ... Mateus Vieira, 2024 VIEIRA, 2024. | N33: Semielipse: sem acento e junto. Semielíptico: com acento e junto.

Sheet Dimensionamento
B1: DIMENSIONAMENTO DO VELAME
B3: INSTRUÇÕES
B4: Objetivo da Aba: Determinar a área de referência (Ar) correspondente à quantidade de força de arrasto necessária para obter a velocidade terminal escolhida no momento que o sistema descendente velame-carga atinge o Ponto de Projeto. Com o valor de Ar é possível determinar o diâmetro (d) do velame.
BG5: t | BH5: 500 | BI5: =($BF$12/$BA$12)*ACOSH(EXP(($BA$12*$BH$5)/$BF$12^2)) -> 10.411293 | BL5: =($BF$16/$BA$16)*ACOSH(EXP(($BA$16*$BH$5)/$BF$16^2)) -> 10.424498 | BO5: =($BF$21/$BA$21)*ACOSH(EXP(($BA$21*$BH$5)/$BF$21^2)) -> 10.441916
BI6: =$BF$12*TANH(($BA$12*BI5)/$BF$12) -> 90.801896 | BL6: =$BF$16*TANH(($BA$16*BL5)/$BF$16) -> 90.462774 | BO6: =$BF$21*TANH(($BA$21*BO5)/$BF$21) -> 90.019861
AV7: Em uma altitude z, a velocidade máxima de um corpo será a velocidade terminal do corpo naquele ponto.
BH8: t= | BI8: =($BF$12/$BA$12)*ATANH(0.999) -> 64.829184 | BK8: t= | BL8: =($BF$16/$BA$16)*ATANH(0.999) -> 63.381708 | BN8: t= | BO8: =($BF$21/$BA$21)*ATANH(0.999) -> 61.617727
B9: DADOS DE ENTRADA | M9: RESULTADOS | AV9: VARIAÇÃO DA Vt COM A ALTITUDE - Cd Constante | BH9: dz | BI9: =($BF$12^2/$BA$12)*LN(COSH(($BA$12*$BI$8)/$BF$12)) -> 8843.2284 | BK9: dz | BL9: =($BF$16^2/$BA$16)*LN(COSH(($BA$16*$BL$8)/$BF$16)) -> 8453.809 | BN9: dz | BO9: =($BF$21^2/$BA$21)*LN(COSH(($BA$21*$BO$8)/$BF$21)) -> 7991.0605
B11: ms | C11: Massa seca do elemento recuperável | M11: Ar | N11: Área de referência | AW11: Ponto | AX11: Altitude | AY11: Altura | AZ11: ρ | BA11: g | BB11: m | BC11: mg = FD | BD11: Cd | BE11: A | BF11: Vt | BH11: t | BI11: v | BK11: t | BL11: v | BN11: t | BO11: v
C12: Elemento | H12: Unid | I12: Valor | N12: Elemento | S12: Unid | T12: Valor | AV12: Apogeu | AW12: 0 | AX12: =I28 -> 3000 | AY12: =AX12-$I$20 -> 3000 | AZ12: =1.225*EXP(-(AX12/1000)/8.882) -> 0.87387239 | BA12: =9.780327*(1+0.0053024*((SIN($I$21*PI()/180))^2)-0.0000058*((SIN(2*$I$21*PI()/180))^2))-0.000003086*AX12 -> 9.778319 | BB12: =$I$13 -> 5 | BC12: =BB12*BA12 -> 48.891595 | BD12: =$I$14 -> 0.8 | BE12: =(PI()*$I$15^2)/4 -> 0.0050265482 | BF12: =SQRT((2*BC12)/(AZ12*BD12*BE12)) -> 166.81234 | BH12: 1 | BI12: =$BF$12*TANH(($BA$12*BH12)/$BF$12) -> 9.7671345 | BK12: 1 | BL12: =$BF$16*TANH(($BA$16*BK12)/$BF$16) -> 9.7678515 | BN12: 1 | BO12: =$BF$21*TANH(($BA$21*BN12)/$BF$21) -> 9.7687139
C13: ms - Massa seca do foguete | H13: [kg] | I13: 5 | N13: Ar - Área de referência | S13: [m²] | T13: =(2*$I$13*$I$45)/($I$44*$I$49*I54^2) -> 1.2085485 | AW13: 1 | AX13: =AX12-($AX$12-$AX$22)/10 -> 2900 | AY13: =AX13-$I$20 -> 2900 | AZ13: =1.225*EXP(-(AX13/1000)/8.882) -> 0.88376667 | BA13: =9.780327*(1+0.0053024*((SIN($I$21*PI()/180))^2)-0.0000058*((SIN(2*$I$21*PI()/180))^2))-0.000003086*AX13 -> 9.7786276 | BB13: =$I$13 -> 5 | BC13: =BB13*BA13 -> 48.893138 | BD13: =$I$14 -> 0.8 | BE13: =(PI()*$I$15^2)/4 -> 0.0050265482 | BF13: =SQRT((2*BC13)/(AZ13*BD13*BE13)) -> 165.87855 | BH13: 2 | BI13: =$BF$12*TANH(($BA$12*BH13)/$BF$12) -> 19.467529 | BK13: 2 | BL13: =$BF$16*TANH(($BA$16*BK13)/$BF$16) -> 19.465893 | BN13: 2 | BO13: =$BF$21*TANH(($BA$21*BN13)/$BF$21) -> 19.463582
C14: Cdfog - Coeficiente de arrasto do foguete | H14: [-] | I14: 0.8 | N14: A área de referência utilizada será a área projetada do velame | AW14: 2 | AX14: =AX13-($AX$12-$AX$22)/10 -> 2800 | AY14: =AX14-$I$20 -> 2800 | AZ14: =1.225*EXP(-(AX14/1000)/8.882) -> 0.89377298 | BA14: =9.780327*(1+0.0053024*((SIN($I$21*PI()/180))^2)-0.0000058*((SIN(2*$I$21*PI()/180))^2))-0.000003086*AX14 -> 9.7789362 | BB14: =$I$13 -> 5 | BC14: =BB14*BA14 -> 48.894681 | BD14: =$I$14 -> 0.8 | BE14: =(PI()*$I$15^2)/4 -> 0.0050265482 | BF14: =SQRT((2*BC14)/(AZ14*BD14*BE14)) -> 164.94998 | BH14: 3 | BI14: =$BF$12*TANH(($BA$12*BH14)/$BF$12) -> 29.036254 | BK14: 3 | BL14: =$BF$16*TANH(($BA$16*BK14)/$BF$16) -> 29.026295 | BN14: 3 | BO14: =$BF$21*TANH(($BA$21*BN14)/$BF$21) -> 29.012976
C15: dfog - Diâmetro do foguete | H15: [m] | I15: 0.08 | AW15: 3 | AX15: =AX14-($AX$12-$AX$22)/10 -> 2700 | AY15: =AX15-$I$20 -> 2700 | AZ15: =1.225*EXP(-(AX15/1000)/8.882) -> 0.90389259 | BA15: =9.780327*(1+0.0053024*((SIN($I$21*PI()/180))^2)-0.0000058*((SIN(2*$I$21*PI()/180))^2))-0.000003086*AX15 -> 9.7792448 | BB15: =$I$13 -> 5 | BC15: =BB15*BA15 -> 48.896224 | BD15: =$I$14 -> 0.8 | BE15: =(PI()*$I$15^2)/4 -> 0.0050265482 | BF15: =SQRT((2*BC15)/(AZ15*BD15*BE15)) -> 164.02662 | BH15: 4 | BI15: =$BF$12*TANH(($BA$12*BH15)/$BF$12) -> 38.411901 | BK15: 4 | BL15: =$BF$16*TANH(($BA$16*BK15)/$BF$16) -> 38.385074 | BN15: 4 | BO15: =$BF$21*TANH(($BA$21*BN15)/$BF$21) -> 38.349557
C16: Pfog - Força Peso equivalente à ms x gPP | H16: [N] | I16: =I13*I45 -> 48.922455 | M16: dVel | N16: Diâmetro da base do velame inflado | AW16: 4 | AX16: =AX15-($AX$12-$AX$22)/10 -> 2600 | AY16: =AX16-$I$20 -> 2600 | AZ16: =1.225*EXP(-(AX16/1000)/8.882) -> 0.91412677 | BA16: =9.780327*(1+0.0053024*((SIN($I$21*PI()/180))^2)-0.0000058*((SIN(2*$I$21*PI()/180))^2))-0.000003086*AX16 -> 9.7795534 | BB16: =$I$13 -> 5 | BC16: =BB16*BA16 -> 48.897767 | BD16: =$I$14 -> 0.8 | BE16: =(PI()*$I$15^2)/4 -> 0.0050265482 | BF16: =SQRT((2*BC16)/(AZ16*BD16*BE16)) -> 163.10842 | BH16: 5 | BI16: =$BF$12*TANH(($BA$12*BH16)/$BF$12) -> 47.538094 | BK16: 5 | BL16: =$BF$16*TANH(($BA$16*BK16)/$BF$16) -> 47.483729 | BN16: 5 | BO16: =$BF$21*TANH(($BA$21*BN16)/$BF$21) -> 47.412094
N17: Elemento | S17: Unid | T17: Valor | AW17: 5 | AX17: =AX16-($AX$12-$AX$22)/10 -> 2500 | AY17: =AX17-$I$20 -> 2500 | AZ17: =1.225*EXP(-(AX17/1000)/8.882) -> 0.92447683 | BA17: =9.780327*(1+0.0053024*((SIN($I$21*PI()/180))^2)-0.0000058*((SIN(2*$I$21*PI()/180))^2))-0.000003086*AX17 -> 9.779862 | BB17: =$I$13 -> 5 | BC17: =BB17*BA17 -> 48.89931 | BD17: =$I$14 -> 0.8 | BE17: =(PI()*$I$15^2)/4 -> 0.0050265482 | BF17: =SQRT((2*BC17)/(AZ17*BD17*BE17)) -> 162.19536 | BH17: 6 | BI17: =$BF$12*TANH(($BA$12*BH17)/$BF$12) -> 56.364726 | BK17: 6 | BL17: =$BF$16*TANH(($BA$16*BK17)/$BF$16) -> 56.270573 | BN17: 6 | BO17: =$BF$21*TANH(($BA$21*BN17)/$BF$21) -> 56.146907
B18: Solo | C18: Solo - local de lançamento e pouso | N18: dvel - Diâmetro correspondente a Ap=Ar | S18: [m] | T18: =SQRT(4*T13/PI()) -> 1.2404724 | AW18: 6 | AX18: =AX17-($AX$12-$AX$22)/10 -> 2400 | AY18: =AX18-$I$20 -> 2400 | AZ18: =1.225*EXP(-(AX18/1000)/8.882) -> 0.93494407 | BA18: =9.780327*(1+0.0053024*((SIN($I$21*PI()/180))^2)-0.0000058*((SIN(2*$I$21*PI()/180))^2))-0.000003086*AX18 -> 9.7801706 | BB18: =$I$13 -> 5 | BC18: =BB18*BA18 -> 48.900853 | BD18: =$I$14 -> 0.8 | BE18: =(PI()*$I$15^2)/4 -> 0.0050265482 | BF18: =SQRT((2*BC18)/(AZ18*BD18*BE18)) -> 161.28741 | BH18: 7 | BI18: =$BF$12*TANH(($BA$12*BH18)/$BF$12) -> 64.848878 | BK18: 7 | BL18: =$BF$16*TANH(($BA$16*BK18)/$BF$16) -> 64.701695 | BN18: 7 | BO18: =$BF$21*TANH(($BA$21*BN18)/$BF$21) -> 64.508895
C19: Elemento | H19: Unid | I19: Valor | N19: Circ - Circunferência correspondente | S19: [m] | T19: =2*PI()*(T18/2) -> 3.897059 | AW19: 7 | AX19: =AX18-($AX$12-$AX$22)/10 -> 2300 | AY19: =AX19-$I$20 -> 2300 | AZ19: =1.225*EXP(-(AX19/1000)/8.882) -> 0.94552983 | BA19: =9.780327*(1+0.0053024*((SIN($I$21*PI()/180))^2)-0.0000058*((SIN(2*$I$21*PI()/180))^2))-0.000003086*AX19 -> 9.7804792 | BB19: =$I$13 -> 5 | BC19: =BB19*BA19 -> 48.902396 | BD19: =$I$14 -> 0.8 | BE19: =(PI()*$I$15^2)/4 -> 0.0050265482 | BF19: =SQRT((2*BC19)/(AZ19*BD19*BE19)) -> 160.38455 | BH19: 8 | BI19: =$BF$12*TANH(($BA$12*BH19)/$BF$12) -> 72.955391 | BK19: 8 | BL19: =$BF$16*TANH(($BA$16*BK19)/$BF$16) -> 72.741544 | BN19: 8 | BO19: =$BF$21*TANH(($BA$21*BN19)/$BF$21) -> 72.462115
C20: Zsolo - Altitude do local de lançamento/pouso (ASL) | H20: [m] | I20: 0 | N20: Amol - Área molhada correspondente | S20: [m²] | T20: =(T18/2)^2*5.099 -> 1.9615493 | AW20: 8 | AX20: =AX19-($AX$12-$AX$22)/10 -> 2200 | AY20: =AX20-$I$20 -> 2200 | AZ20: =1.225*EXP(-(AX20/1000)/8.882) -> 0.95623544 | BA20: =9.780327*(1+0.0053024*((SIN($I$21*PI()/180))^2)-0.0000058*((SIN(2*$I$21*PI()/180))^2))-0.000003086*AX20 -> 9.7807878 | BB20: =$I$13 -> 5 | BC20: =BB20*BA20 -> 48.903939 | BD20: =$I$14 -> 0.8 | BE20: =(PI()*$I$15^2)/4 -> 0.0050265482 | BF20: =SQRT((2*BC20)/(AZ20*BD20*BE20)) -> 159.48674 | BH20: 9 | BI20: =$BF$12*TANH(($BA$12*BH20)/$BF$12) -> 80.657094 | BK20: 9 | BL20: =$BF$16*TANH(($BA$16*BK20)/$BF$16) -> 80.363119 | BN20: 9 | BO20: =$BF$21*TANH(($BA$21*BN20)/$BF$21) -> 79.979929
C21: λsolo - Latitude do local de lançamento/pouso | H21: [°] | I21: -22 | AW21: 9 | AX21: =AX20-($AX$12-$AX$22)/10 -> 2100 | AY21: =AX21-$I$20 -> 2100 | AZ21: =1.225*EXP(-(AX21/1000)/8.882) -> 0.96706227 | BA21: =9.780327*(1+0.0053024*((SIN($I$21*PI()/180))^2)-0.0000058*((SIN(2*$I$21*PI()/180))^2))-0.000003086*AX21 -> 9.7810964 | BB21: =$I$13 -> 5 | BC21: =BB21*BA21 -> 48.905482 | BD21: =$I$14 -> 0.8 | BE21: =(PI()*$I$15^2)/4 -> 0.0050265482 | BF21: =SQRT((2*BC21)/(AZ21*BD21*BE21)) -> 158.59396 | BH21: 10 | BI21: =$BF$12*TANH(($BA$12*BH21)/$BF$12) -> 87.934719 | BK21: 10 | BL21: =$BF$16*TANH(($BA$16*BK21)/$BF$16) -> 87.547828 | BN21: 10 | BO21: =$BF$21*TANH(($BA$21*BN21)/$BF$21) -> 87.044761
C22: ρsolo - Massa específica do ar no solo | H22: [kg/m³] | I22: =1.225*EXP(-(I20/1000)/8.882) -> 1.225 | AV22: Implantação | AW22: 10 | AX22: =I36 -> 2000 | AY22: =AX22-$I$20 -> 2000 | AZ22: =1.225*EXP(-(AX22/1000)/8.882) -> 0.97801168 | BA22: =9.780327*(1+0.0053024*((SIN($I$21*PI()/180))^2)-0.0000058*((SIN(2*$I$21*PI()/180))^2))-0.000003086*AX22 -> 9.781405 | BB22: =$I$13 -> 5 | BC22: =BB22*BA22 -> 48.907025 | BD22: =$I$49 -> 1.5 | BE22: =$T$13 -> 1.2085485 | BF22: =SQRT((2*BC22)/(AZ22*BD22*BE22)) -> 7.4276413 | BH22: 11 | BI22: =$BF$12*TANH(($BA$12*BH22)/$BF$12) -> 94.776543 | BK22: 11 | BL22: =$BF$16*TANH(($BA$16*BK22)/$BF$16) -> 94.285038 | BN22: 11 | BO22: =$BF$21*TANH(($BA$21*BN22)/$BF$21) -> 93.647532
C23: gsolo - Aceleração da gravidade no solo | H23: [m/s²] | I23: =9.780327*(1+0.0053024*((SIN($I$21*PI()/180))^2)-0.0000058*((SIN(2*$I$21*PI()/180))^2))-0.000003086*I20 -> 9.787577 | AW23: 11 | AX23: =AX22-($AX$22-$AX$32)/10 -> 1900 | AY23: =AX23-$I$20 -> 1900 | AZ23: =1.225*EXP(-(AX23/1000)/8.882) -> 0.98908506 | BA23: =9.780327*(1+0.0053024*((SIN($I$21*PI()/180))^2)-0.0000058*((SIN(2*$I$21*PI()/180))^2))-0.000003086*AX23 -> 9.7817136 | BB23: =$I$13 -> 5 | BC23: =BB23*BA23 -> 48.908568 | BD23: =$I$49 -> 1.5 | BE23: =$T$13 -> 1.2085485 | BF23: =SQRT((2*BC23)/(AZ23*BD23*BE23)) -> 7.3860624 | BH23: 12 | BI23: =$BF$12*TANH(($BA$12*BH23)/$BF$12) -> 101.17781 | BK23: 12 | BL23: =$BF$16*TANH(($BA$16*BK23)/$BF$16) -> 100.57141 | BN23: 12 | BO23: =$BF$21*TANH(($BA$21*BN23)/$BF$21) -> 99.786854
AW24: 12 | AX24: =AX23-($AX$22-$AX$32)/10 -> 1800 | AY24: =AX24-$I$20 -> 1800 | AZ24: =1.225*EXP(-(AX24/1000)/8.882) -> 1.0002838 | BA24: =9.780327*(1+0.0053024*((SIN($I$21*PI()/180))^2)-0.0000058*((SIN(2*$I$21*PI()/180))^2))-0.000003086*AX24 -> 9.7820222 | BB24: =$I$13 -> 5 | BC24: =BB24*BA24 -> 48.910111 | BD24: =$I$49 -> 1.5 | BE24: =$T$13 -> 1.2085485 | BF24: =SQRT((2*BC24)/(AZ24*BD24*BE24)) -> 7.3447162 | BH24: 13 | BI24: =$BF$12*TANH(($BA$12*BH24)/$BF$12) -> 107.14 | BK24: 13 | BL24: =$BF$16*TANH(($BA$16*BK24)/$BF$16) -> 106.41007 | BN24: 13 | BO24: =$BF$21*TANH(($BA$21*BN24)/$BF$21) -> 105.46806
B25: H | C25: Apogeu | AW25: 13 | AX25: =AX24-($AX$22-$AX$32)/10 -> 1700 | AY25: =AX25-$I$20 -> 1700 | AZ25: =1.225*EXP(-(AX25/1000)/8.882) -> 1.0116094 | BA25: =9.780327*(1+0.0053024*((SIN($I$21*PI()/180))^2)-0.0000058*((SIN(2*$I$21*PI()/180))^2))-0.000003086*AX25 -> 9.7823308 | BB25: =$I$13 -> 5 | BC25: =BB25*BA25 -> 48.911654 | BD25: =$I$49 -> 1.5 | BE25: =$T$13 -> 1.2085485 | BF25: =SQRT((2*BC25)/(AZ25*BD25*BE25)) -> 7.3036015 | BH25: 14 | BI25: =$BF$12*TANH(($BA$12*BH25)/$BF$12) -> 112.67002 | BK25: 14 | BL25: =$BF$16*TANH(($BA$16*BK25)/$BF$16) -> 111.80966 | BN25: 14 | BO25: =$BF$21*TANH(($BA$21*BN25)/$BF$21) -> 110.70215
C26: Elemento | H26: Unid | I26: Valor | AW26: 14 | AX26: =AX25-($AX$22-$AX$32)/10 -> 1600 | AY26: =AX26-$I$20 -> 1600 | AZ26: =1.225*EXP(-(AX26/1000)/8.882) -> 1.0230632 | BA26: =9.780327*(1+0.0053024*((SIN($I$21*PI()/180))^2)-0.0000058*((SIN(2*$I$21*PI()/180))^2))-0.000003086*AX26 -> 9.7826394 | BB26: =$I$13 -> 5 | BC26: =BB26*BA26 -> 48.913197 | BD26: =$I$49 -> 1.5 | BE26: =$T$13 -> 1.2085485 | BF26: =SQRT((2*BC26)/(AZ26*BD26*BE26)) -> 7.262717 | BH26: 15 | BI26: =$BF$12*TANH(($BA$12*BH26)/$BF$12) -> 117.77928 | BK26: 15 | BL26: =$BF$16*TANH(($BA$16*BK26)/$BF$16) -> 116.78342 | BN26: 15 | BO26: =$BF$21*TANH(($BA$21*BN26)/$BF$21) -> 115.50472
C27: H - Apogeu do foguete (AGL) | H27: [m] | I27: 3000 | AW27: 15 | AX27: =AX26-($AX$22-$AX$32)/10 -> 1500 | AY27: =AX27-$I$20 -> 1500 | AZ27: =1.225*EXP(-(AX27/1000)/8.882) -> 1.0346466 | BA27: =9.780327*(1+0.0053024*((SIN($I$21*PI()/180))^2)-0.0000058*((SIN(2*$I$21*PI()/180))^2))-0.000003086*AX27 -> 9.782948 | BB27: =$I$13 -> 5 | BC27: =BB27*BA27 -> 48.91474 | BD27: =$I$49 -> 1.5 | BE27: =$T$13 -> 1.2085485 | BF27: =SQRT((2*BC27)/(AZ27*BD27*BE27)) -> 7.2220613 | BH27: 16 | BI27: =$BF$12*TANH(($BA$12*BH27)/$BF$12) -> 122.48286 | BK27: 16 | BL27: =$BF$16*TANH(($BA$16*BK27)/$BF$16) -> 121.34818 | BN27: 16 | BO27: =$BF$21*TANH(($BA$21*BN27)/$BF$21) -> 119.89489
C28: ZH - Altitude do apogeu (ASL) | H28: [m] | I28: =I20+I27 -> 3000 | AW28: 16 | AX28: =AX27-($AX$22-$AX$32)/10 -> 1400 | AY28: =AX28-$I$20 -> 1400 | AZ28: =1.225*EXP(-(AX28/1000)/8.882) -> 1.0463613 | BA28: =9.780327*(1+0.0053024*((SIN($I$21*PI()/180))^2)-0.0000058*((SIN(2*$I$21*PI()/180))^2))-0.000003086*AX28 -> 9.7832566 | BB28: =$I$13 -> 5 | BC28: =BB28*BA28 -> 48.916283 | BD28: =$I$49 -> 1.5 | BE28: =$T$13 -> 1.2085485 | BF28: =SQRT((2*BC28)/(AZ28*BD28*BE28)) -> 7.1816332 | BH28: 17 | BI28: =$BF$12*TANH(($BA$12*BH28)/$BF$12) -> 126.79869 | BK28: 17 | BL28: =$BF$16*TANH(($BA$16*BK28)/$BF$16) -> 125.52355 | BN28: 17 | BO28: =$BF$21*TANH(($BA$21*BN28)/$BF$21) -> 123.89439
C29: ρH - Massa específica do ar no apogeu | H29: [kg/m³] | I29: =1.225*EXP(-(I28/1000)/8.882) -> 0.87387239 | AW29: 17 | AX29: =AX28-($AX$22-$AX$32)/10 -> 1300 | AY29: =AX29-$I$20 -> 1300 | AZ29: =1.225*EXP(-(AX29/1000)/8.882) -> 1.0582085 | BA29: =9.780327*(1+0.0053024*((SIN($I$21*PI()/180))^2)-0.0000058*((SIN(2*$I$21*PI()/180))^2))-0.000003086*AX29 -> 9.7835652 | BB29: =$I$13 -> 5 | BC29: =BB29*BA29 -> 48.917826 | BD29: =$I$49 -> 1.5 | BE29: =$T$13 -> 1.2085485 | BF29: =SQRT((2*BC29)/(AZ29*BD29*BE29)) -> 7.1414314 | BH29: 18 | BI29: =$BF$12*TANH(($BA$12*BH29)/$BF$12) -> 130.74671 | BK29: 18 | BL29: =$BF$16*TANH(($BA$16*BK29)/$BF$16) -> 129.33102 | BN29: 18 | BO29: =$BF$21*TANH(($BA$21*BN29)/$BF$21) -> 127.52666
C30: gH - Aceleração da gravidade no apogeu | H30: [m/s²] | I30: =9.780327*(1+0.0053024*((SIN($I$21*PI()/180))^2)-0.0000058*((SIN(2*$I$21*PI()/180))^2))-0.000003086*I28 -> 9.778319 | AW30: 18 | AX30: =AX29-($AX$22-$AX$32)/10 -> 1200 | AY30: =AX30-$I$20 -> 1200 | AZ30: =1.225*EXP(-(AX30/1000)/8.882) -> 1.0701899 | BA30: =9.780327*(1+0.0053024*((SIN($I$21*PI()/180))^2)-0.0000058*((SIN(2*$I$21*PI()/180))^2))-0.000003086*AX30 -> 9.7838738 | BB30: =$I$13 -> 5 | BC30: =BB30*BA30 -> 48.919369 | BD30: =$I$49 -> 1.5 | BE30: =$T$13 -> 1.2085485 | BF30: =SQRT((2*BC30)/(AZ30*BD30*BE30)) -> 7.1014546 | BH30: 19 | BI30: =$BF$12*TANH(($BA$12*BH30)/$BF$12) -> 134.34827 | BK30: 19 | BL30: =$BF$16*TANH(($BA$16*BK30)/$BF$16) -> 132.79329 | BN30: 19 | BO30: =$BF$21*TANH(($BA$21*BN30)/$BF$21) -> 130.8161
AW31: 19 | AX31: =AX30-($AX$22-$AX$32)/10 -> 1100 | AY31: =AX31-$I$20 -> 1100 | AZ31: =1.225*EXP(-(AX31/1000)/8.882) -> 1.082307 | BA31: =9.780327*(1+0.0053024*((SIN($I$21*PI()/180))^2)-0.0000058*((SIN(2*$I$21*PI()/180))^2))-0.000003086*AX31 -> 9.7841824 | BB31: =$I$13 -> 5 | BC31: =BB31*BA31 -> 48.920912 | BD31: =$I$49 -> 1.5 | BE31: =$T$13 -> 1.2085485 | BF31: =SQRT((2*BC31)/(AZ31*BD31*BE31)) -> 7.0617016 | BH31: 20 | BI31: =$BF$12*TANH(($BA$12*BH31)/$BF$12) -> 137.62545 | BK31: 20 | BL31: =$BF$16*TANH(($BA$16*BK31)/$BF$16) -> 135.93365 | BN31: 20 | BO31: =$BF$21*TANH(($BA$21*BN31)/$BF$21) -> 133.78745
B32: Imp | C32: Ponto de implantação do paraquedas | AV32: PP | AW32: 20 | AX32: =I43 -> 1000 | AY32: =AX32-$I$20 -> 1000 | AZ32: =1.225*EXP(-(AX32/1000)/8.882) -> 1.0945612 | BA32: =9.780327*(1+0.0053024*((SIN($I$21*PI()/180))^2)-0.0000058*((SIN(2*$I$21*PI()/180))^2))-0.000003086*AX32 -> 9.784491 | BB32: =$I$13 -> 5 | BC32: =BB32*BA32 -> 48.922455 | BD32: =$I$49 -> 1.5 | BE32: =$T$13 -> 1.2085485 | BF32: =SQRT((2*BC32)/(AZ32*BD32*BE32)) -> 7.0221711 | BH32: 21 | BI32: =$BF$12*TANH(($BA$12*BH32)/$BF$12) -> 140.6006 | BK32: 21 | BL32: =$BF$16*TANH(($BA$16*BK32)/$BF$16) -> 138.77544 | BN32: 21 | BO32: =$BF$21*TANH(($BA$21*BN32)/$BF$21) -> 136.46526
C33: Elemento | H33: Unid | I33: Valor | AW33: 21 | AX33: =AX32-($AX$32-$AX$42)/10 -> 900 | AY33: =AX33-$I$20 -> 900 | AZ33: =1.225*EXP(-(AX33/1000)/8.882) -> 1.1069542 | BA33: =9.780327*(1+0.0053024*((SIN($I$21*PI()/180))^2)-0.0000058*((SIN(2*$I$21*PI()/180))^2))-0.000003086*AX33 -> 9.7847996 | BB33: =$I$13 -> 5 | BC33: =BB33*BA33 -> 48.923998 | BD33: =$I$49 -> 1.5 | BE33: =$T$13 -> 1.2085485 | BF33: =SQRT((2*BC33)/(AZ33*BD33*BE33)) -> 6.982862 | BH33: 22 | BI33: =$BF$12*TANH(($BA$12*BH33)/$BF$12) -> 143.2959 | BK33: 22 | BL33: =$BF$16*TANH(($BA$16*BK33)/$BF$16) -> 141.34169 | BN33: 22 | BO33: =$BF$21*TANH(($BA$21*BN33)/$BF$21) -> 138.8735
C34: HImp - Altura acima do solo na qual o paraquedas irá abrir (AGL) | H34: [m] | I34: 2000 | AW34: 22 | AX34: =AX33-($AX$32-$AX$42)/10 -> 800 | AY34: =AX34-$I$20 -> 800 | AZ34: =1.225*EXP(-(AX34/1000)/8.882) -> 1.1194876 | BA34: =9.780327*(1+0.0053024*((SIN($I$21*PI()/180))^2)-0.0000058*((SIN(2*$I$21*PI()/180))^2))-0.000003086*AX34 -> 9.7851082 | BB34: =$I$13 -> 5 | BC34: =BB34*BA34 -> 48.925541 | BD34: =$I$49 -> 1.5 | BE34: =$T$13 -> 1.2085485 | BF34: =SQRT((2*BC34)/(AZ34*BD34*BE34)) -> 6.9437728 | BH34: 23 | BI34: =$BF$12*TANH(($BA$12*BH34)/$BF$12) -> 145.73306 | BK34: 23 | BL34: =$BF$16*TANH(($BA$16*BK34)/$BF$16) -> 143.65473 | BN34: 23 | BO34: =$BF$21*TANH(($BA$21*BN34)/$BF$21) -> 141.03525
C35: Defina um valor entre | D35: 0 | E35: e | F35: =I27 -> 3000 | G35: m acima do solo | AW35: 23 | AX35: =AX34-($AX$32-$AX$42)/10 -> 700 | AY35: =AX35-$I$20 -> 700 | AZ35: =1.225*EXP(-(AX35/1000)/8.882) -> 1.1321628 | BA35: =9.780327*(1+0.0053024*((SIN($I$21*PI()/180))^2)-0.0000058*((SIN(2*$I$21*PI()/180))^2))-0.000003086*AX35 -> 9.7854168 | BB35: =$I$13 -> 5 | BC35: =BB35*BA35 -> 48.927084 | BD35: =$I$49 -> 1.5 | BE35: =$T$13 -> 1.2085485 | BF35: =SQRT((2*BC35)/(AZ35*BD35*BE35)) -> 6.9049025 | BH35: 24 | BI35: =$BF$12*TANH(($BA$12*BH35)/$BF$12) -> 147.93302 | BK35: 24 | BL35: =$BF$16*TANH(($BA$16*BK35)/$BF$16) -> 145.73601 | BN35: 24 | BO35: =$BF$21*TANH(($BA$21*BN35)/$BF$21) -> 142.97248
C36: ZImp - Altitude do ponto de implantação | H36: [m] | I36: =I20+I34 -> 2000 | AW36: 24 | AX36: =AX35-($AX$32-$AX$42)/10 -> 600 | AY36: =AX36-$I$20 -> 600 | AZ36: =1.225*EXP(-(AX36/1000)/8.882) -> 1.1449815 | BA36: =9.780327*(1+0.0053024*((SIN($I$21*PI()/180))^2)-0.0000058*((SIN(2*$I$21*PI()/180))^2))-0.000003086*AX36 -> 9.7857254 | BB36: =$I$13 -> 5 | BC36: =BB36*BA36 -> 48.928627 | BD36: =$I$49 -> 1.5 | BE36: =$T$13 -> 1.2085485 | BF36: =SQRT((2*BC36)/(AZ36*BD36*BE36)) -> 6.8662498 | BH36: 25 | BI36: =$BF$12*TANH(($BA$12*BH36)/$BF$12) -> 149.91578 | BK36: 25 | BL36: =$BF$16*TANH(($BA$16*BK36)/$BF$16) -> 147.60586 | BN36: 25 | BO36: =$BF$21*TANH(($BA$21*BN36)/$BF$21) -> 144.70588
C37: ρImp - Massa específica do ar no ponto de implantação | H37: [kg/m³] | I37: =1.225*EXP(-(I36/1000)/8.882) -> 0.97801168 | AW37: 25 | AX37: =AX36-($AX$32-$AX$42)/10 -> 500 | AY37: =AX37-$I$20 -> 500 | AZ37: =1.225*EXP(-(AX37/1000)/8.882) -> 1.1579454 | BA37: =9.780327*(1+0.0053024*((SIN($I$21*PI()/180))^2)-0.0000058*((SIN(2*$I$21*PI()/180))^2))-0.000003086*AX37 -> 9.786034 | BB37: =$I$13 -> 5 | BC37: =BB37*BA37 -> 48.93017 | BD37: =$I$49 -> 1.5 | BE37: =$T$13 -> 1.2085485 | BF37: =SQRT((2*BC37)/(AZ37*BD37*BE37)) -> 6.8278134 | BH37: 26 | BI37: =$BF$12*TANH(($BA$12*BH37)/$BF$12) -> 151.70031 | BK37: 26 | BL37: =$BF$16*TANH(($BA$16*BK37)/$BF$16) -> 149.28347 | BN37: 26 | BO37: =$BF$21*TANH(($BA$21*BN37)/$BF$21) -> 146.25481
C38: gImp - Aceleração da gravidade no ponto de implantação | H38: [m/s²] | I38: =9.780327*(1+0.0053024*((SIN($I$21*PI()/180))^2)-0.0000058*((SIN(2*$I$21*PI()/180))^2))-0.000003086*I36 -> 9.781405 | AW38: 26 | AX38: =AX37-($AX$32-$AX$42)/10 -> 400 | AY38: =AX38-$I$20 -> 400 | AZ38: =1.225*EXP(-(AX38/1000)/8.882) -> 1.171056 | BA38: =9.780327*(1+0.0053024*((SIN($I$21*PI()/180))^2)-0.0000058*((SIN(2*$I$21*PI()/180))^2))-0.000003086*AX38 -> 9.7863426 | BB38: =$I$13 -> 5 | BC38: =BB38*BA38 -> 48.931713 | BD38: =$I$49 -> 1.5 | BE38: =$T$13 -> 1.2085485 | BF38: =SQRT((2*BC38)/(AZ38*BD38*BE38)) -> 6.7895922 | BH38: 27 | BI38: =$BF$12*TANH(($BA$12*BH38)/$BF$12) -> 153.30441 | BK38: 27 | BL38: =$BF$16*TANH(($BA$16*BK38)/$BF$16) -> 150.78674 | BN38: 27 | BO38: =$BF$21*TANH(($BA$21*BN38)/$BF$21) -> 147.63723
AW39: 27 | AX39: =AX38-($AX$32-$AX$42)/10 -> 300 | AY39: =AX39-$I$20 -> 300 | AZ39: =1.225*EXP(-(AX39/1000)/8.882) -> 1.1843151 | BA39: =9.780327*(1+0.0053024*((SIN($I$21*PI()/180))^2)-0.0000058*((SIN(2*$I$21*PI()/180))^2))-0.000003086*AX39 -> 9.7866512 | BB39: =$I$13 -> 5 | BC39: =BB39*BA39 -> 48.933256 | BD39: =$I$49 -> 1.5 | BE39: =$T$13 -> 1.2085485 | BF39: =SQRT((2*BC39)/(AZ39*BD39*BE39)) -> 6.751585 | BH39: 28 | BI39: =$BF$12*TANH(($BA$12*BH39)/$BF$12) -> 154.74468 | BK39: 28 | BL39: =$BF$16*TANH(($BA$16*BK39)/$BF$16) -> 152.13229 | BN39: 28 | BO39: =$BF$21*TANH(($BA$21*BN39)/$BF$21) -> 148.86971
B40: PP | C40: Ponto de projeto | AW40: 28 | AX40: =AX39-($AX$32-$AX$42)/10 -> 200 | AY40: =AX40-$I$20 -> 200 | AZ40: =1.225*EXP(-(AX40/1000)/8.882) -> 1.1977244 | BA40: =9.780327*(1+0.0053024*((SIN($I$21*PI()/180))^2)-0.0000058*((SIN(2*$I$21*PI()/180))^2))-0.000003086*AX40 -> 9.7869598 | BB40: =$I$13 -> 5 | BC40: =BB40*BA40 -> 48.934799 | BD40: =$I$49 -> 1.5 | BE40: =$T$13 -> 1.2085485 | BF40: =SQRT((2*BC40)/(AZ40*BD40*BE40)) -> 6.7137905 | BH40: 29 | BI40: =$BF$12*TANH(($BA$12*BH40)/$BF$12) -> 156.03656 | BK40: 29 | BL40: =$BF$16*TANH(($BA$16*BK40)/$BF$16) -> 153.33547 | BN40: 29 | BO40: =$BF$21*TANH(($BA$21*BN40)/$BF$21) -> 149.96746
C41: Elemento | H41: Unid | I41: Valor | AW41: 29 | AX41: =AX40-($AX$32-$AX$42)/10 -> 100 | AY41: =AX41-$I$20 -> 100 | AZ41: =1.225*EXP(-(AX41/1000)/8.882) -> 1.2112854 | BA41: =9.780327*(1+0.0053024*((SIN($I$21*PI()/180))^2)-0.0000058*((SIN(2*$I$21*PI()/180))^2))-0.000003086*AX41 -> 9.7872684 | BB41: =$I$13 -> 5 | BC41: =BB41*BA41 -> 48.936342 | BD41: =$I$49 -> 1.5 | BE41: =$T$13 -> 1.2085485 | BF41: =SQRT((2*BC41)/(AZ41*BD41*BE41)) -> 6.6762075 | BH41: 30 | BI41: =$BF$12*TANH(($BA$12*BH41)/$BF$12) -> 157.19427 | BK41: 30 | BL41: =$BF$16*TANH(($BA$16*BK41)/$BF$16) -> 154.41041 | BN41: 30 | BO41: =$BF$21*TANH(($BA$21*BN41)/$BF$21) -> 150.94436
C42: Hpp= HImp / 2 | D42: Altura do PP (AGL) | H42: [m] | I42: =I34/2 -> 1000 | AV42: Solo | AW42: 30 | AX42: =I20 -> 0 | AY42: =AX42-$I$20 -> 0 | AZ42: =1.225*EXP(-(AX42/1000)/8.882) -> 1.225 | BA42: =9.780327*(1+0.0053024*((SIN($I$21*PI()/180))^2)-0.0000058*((SIN(2*$I$21*PI()/180))^2))-0.000003086*AX42 -> 9.787577 | BB42: =$I$13 -> 5 | BC42: =BB42*BA42 -> 48.937885 | BD42: =$I$49 -> 1.5 | BE42: =$T$13 -> 1.2085485 | BF42: =SQRT((2*BC42)/(AZ42*BD42*BE42)) -> 6.638835 | BH42: 31 | BI42: =$BF$12*TANH(($BA$12*BH42)/$BF$12) -> 158.23091 | BK42: 31 | BL42: =$BF$16*TANH(($BA$16*BK42)/$BF$16) -> 155.37 | BN42: 31 | BO42: =$BF$21*TANH(($BA$21*BN42)/$BF$21) -> 151.81307
C43: Zpp = Zsolo + Hpp | D43: Altitude geométrica do PP (ASL) | H43: [m] | I43: =I20+I42 -> 1000 | BH43: 32 | BI43: =$BF$12*TANH(($BA$12*BH43)/$BF$12) -> 159.15846 | BK43: 32 | BL43: =$BF$16*TANH(($BA$16*BK43)/$BF$16) -> 156.22602 | BN43: 32 | BO43: =$BF$21*TANH(($BA$21*BN43)/$BF$21) -> 152.58505
C44: ρpp = [ρsolo + ρImp] / 2 | D44: Massa específica do ar no PP | H44: [kg/m³] | I44: =(I22+I37)/2 -> 1.1015058 | BH44: 33 | BI44: =$BF$12*TANH(($BA$12*BH44)/$BF$12) -> 159.98786 | BK44: 33 | BL44: =$BF$16*TANH(($BA$16*BK44)/$BF$16) -> 156.98917 | BN44: 33 | BO44: =$BF$21*TANH(($BA$21*BN44)/$BF$21) -> 153.27064
C45: gpp = [gsolo + gImp] / 2 | D45: Aceleração da gravidade no PP | H45: [m/s²] | I45: =(I23+I38)/2 -> 9.784491 | BH45: 34 | BI45: =$BF$12*TANH(($BA$12*BH45)/$BF$12) -> 160.72906 | BK45: 34 | BL45: =$BF$16*TANH(($BA$16*BK45)/$BF$16) -> 157.66914 | BN45: 34 | BO45: =$BF$21*TANH(($BA$21*BN45)/$BF$21) -> 153.87919
BH46: 35 | BI46: =$BF$12*TANH(($BA$12*BH46)/$BF$12) -> 161.39109 | BK46: 35 | BL46: =$BF$16*TANH(($BA$16*BK46)/$BF$16) -> 158.27469 | BN46: 35 | BO46: =$BF$21*TANH(($BA$21*BN46)/$BF$21) -> 154.41911
B47: Cd | C47: Cd - Coeficiente de arrasto do velame | BH47: 36 | BI47: =$BF$12*TANH(($BA$12*BH47)/$BF$12) -> 161.98214 | BK47: 36 | BL47: =$BF$16*TANH(($BA$16*BK47)/$BF$16) -> 158.81373 | BN47: 36 | BO47: =$BF$21*TANH(($BA$21*BN47)/$BF$21) -> 154.89793
C48: Elemento | H48: Unid | I48: Valor | BH48: 37 | BI48: =$BF$12*TANH(($BA$12*BH48)/$BF$12) -> 162.50959 | BK48: 37 | BL48: =$BF$16*TANH(($BA$16*BK48)/$BF$16) -> 159.29337 | BN48: 37 | BO48: =$BF$21*TANH(($BA$21*BN48)/$BF$21) -> 155.32241
C49: Cd - Coeficiente de arrasto do velame | H49: [-] | I49: 1.5 | BH49: 38 | BI49: =$BF$12*TANH(($BA$12*BH49)/$BF$12) -> 162.98012 | BK49: 38 | BL49: =$BF$16*TANH(($BA$16*BK49)/$BF$16) -> 159.72001 | BN49: 38 | BO49: =$BF$21*TANH(($BA$21*BN49)/$BF$21) -> 155.69858
C50: Valor próximo de 1,5 | BH50: 39 | BI50: =$BF$12*TANH(($BA$12*BH50)/$BF$12) -> 163.39973 | BK50: 39 | BL50: =$BF$16*TANH(($BA$16*BK50)/$BF$16) -> 160.09938 | BN50: 39 | BO50: =$BF$21*TANH(($BA$21*BN50)/$BF$21) -> 156.03186
BH51: 40 | BI51: =$BF$12*TANH(($BA$12*BH51)/$BF$12) -> 163.77381 | BK51: 40 | BL51: =$BF$16*TANH(($BA$16*BK51)/$BF$16) -> 160.43663 | BN51: 40 | BO51: =$BF$21*TANH(($BA$21*BN51)/$BF$21) -> 156.32705
B52: Vt | C52: Vt - Velocidade terminal | BH52: 41 | BI52: =$BF$12*TANH(($BA$12*BH52)/$BF$12) -> 164.10723 | BK52: 41 | BL52: =$BF$16*TANH(($BA$16*BK52)/$BF$16) -> 160.73636 | BN52: 41 | BO52: =$BF$21*TANH(($BA$21*BN52)/$BF$21) -> 156.58845
C53: Elemento | H53: Unid | I53: Valor | BH53: 42 | BI53: =$BF$12*TANH(($BA$12*BH53)/$BF$12) -> 164.40432 | BK53: 42 | BL53: =$BF$16*TANH(($BA$16*BK53)/$BF$16) -> 161.00268 | BN53: 42 | BO53: =$BF$21*TANH(($BA$21*BN53)/$BF$21) -> 156.81987
C54: Vt - Velocidade terminal desejada | H54: [m/s] | I54: 7 | BH54: 43 | BI54: =$BF$12*TANH(($BA$12*BH54)/$BF$12) -> 164.669 | BK54: 43 | BL54: =$BF$16*TANH(($BA$16*BK54)/$BF$16) -> 161.23927 | BN54: 43 | BO54: =$BF$21*TANH(($BA$21*BN54)/$BF$21) -> 157.02472
C55: ~10 m/s para um paraquedas terminal, ou ~25 m/s para um drogue | BH55: 44 | BI55: =$BF$12*TANH(($BA$12*BH55)/$BF$12) -> 164.90475 | BK55: 44 | BL55: =$BF$16*TANH(($BA$16*BK55)/$BF$16) -> 161.44942 | BN55: 44 | BO55: =$BF$21*TANH(($BA$21*BN55)/$BF$21) -> 157.20603
H56: [km/h] | I56: =I54*3.6 -> 25.2 | BH56: 45 | BI56: =$BF$12*TANH(($BA$12*BH56)/$BF$12) -> 165.11471 | BK56: 45 | BL56: =$BF$16*TANH(($BA$16*BK56)/$BF$16) -> 161.63605 | BN56: 45 | BO56: =$BF$21*TANH(($BA$21*BN56)/$BF$21) -> 157.36646
BH57: 46 | BI57: =$BF$12*TANH(($BA$12*BH57)/$BF$12) -> 165.30166 | BK57: 46 | BL57: =$BF$16*TANH(($BA$16*BK57)/$BF$16) -> 161.80176 | BN57: 46 | BO57: =$BF$21*TANH(($BA$21*BN57)/$BF$21) -> 157.50842
BH58: 47 | BI58: =$BF$12*TANH(($BA$12*BH58)/$BF$12) -> 165.46811 | BK58: 47 | BL58: =$BF$16*TANH(($BA$16*BK58)/$BF$16) -> 161.9489 | BN58: 47 | BO58: =$BF$21*TANH(($BA$21*BN58)/$BF$21) -> 157.63401
BH59: 48 | BI59: =$BF$12*TANH(($BA$12*BH59)/$BF$12) -> 165.61628 | BK59: 48 | BL59: =$BF$16*TANH(($BA$16*BK59)/$BF$16) -> 162.07951 | BN59: 48 | BO59: =$BF$21*TANH(($BA$21*BN59)/$BF$21) -> 157.74511
BH60: 49 | BI60: =$BF$12*TANH(($BA$12*BH60)/$BF$12) -> 165.74817 | BK60: 49 | BL60: =$BF$16*TANH(($BA$16*BK60)/$BF$16) -> 162.19546 | BN60: 49 | BO60: =$BF$21*TANH(($BA$21*BN60)/$BF$21) -> 157.84338
BH61: 50 | BI61: =$BF$12*TANH(($BA$12*BH61)/$BF$12) -> 165.86556 | BK61: 50 | BL61: =$BF$16*TANH(($BA$16*BK61)/$BF$16) -> 162.29837 | BN61: 50 | BO61: =$BF$21*TANH(($BA$21*BN61)/$BF$21) -> 157.93029
BH62: 51 | BI62: =$BF$12*TANH(($BA$12*BH62)/$BF$12) -> 165.97004 | BK62: 51 | BL62: =$BF$16*TANH(($BA$16*BK62)/$BF$16) -> 162.38971 | BN62: 51 | BO62: =$BF$21*TANH(($BA$21*BN62)/$BF$21) -> 158.00716
BH63: 52 | BI63: =$BF$12*TANH(($BA$12*BH63)/$BF$12) -> 166.06301 | BK63: 52 | BL63: =$BF$16*TANH(($BA$16*BK63)/$BF$16) -> 162.47077 | BN63: 52 | BO63: =$BF$21*TANH(($BA$21*BN63)/$BF$21) -> 158.07515
BH64: 53 | BI64: =$BF$12*TANH(($BA$12*BH64)/$BF$12) -> 166.14574 | BK64: 53 | BL64: =$BF$16*TANH(($BA$16*BK64)/$BF$16) -> 162.5427 | BN64: 53 | BO64: =$BF$21*TANH(($BA$21*BN64)/$BF$21) -> 158.13526
BH65: 54 | BI65: =$BF$12*TANH(($BA$12*BH65)/$BF$12) -> 166.21935 | BK65: 54 | BL65: =$BF$16*TANH(($BA$16*BK65)/$BF$16) -> 162.60653 | BN65: 54 | BO65: =$BF$21*TANH(($BA$21*BN65)/$BF$21) -> 158.18842
BH66: 55 | BI66: =$BF$12*TANH(($BA$12*BH66)/$BF$12) -> 166.28485 | BK66: 55 | BL66: =$BF$16*TANH(($BA$16*BK66)/$BF$16) -> 162.66317 | BN66: 55 | BO66: =$BF$21*TANH(($BA$21*BN66)/$BF$21) -> 158.23543
BH67: 56 | BI67: =$BF$12*TANH(($BA$12*BH67)/$BF$12) -> 166.34312 | BK67: 56 | BL67: =$BF$16*TANH(($BA$16*BK67)/$BF$16) -> 162.71342 | BN67: 56 | BO67: =$BF$21*TANH(($BA$21*BN67)/$BF$21) -> 158.27699
BH68: 57 | BI68: =$BF$12*TANH(($BA$12*BH68)/$BF$12) -> 166.39496 | BK68: 57 | BL68: =$BF$16*TANH(($BA$16*BK68)/$BF$16) -> 162.75801 | BN68: 57 | BO68: =$BF$21*TANH(($BA$21*BN68)/$BF$21) -> 158.31374
... BH71: 60 | BI71: =$BF$12*TANH(($BA$12*BH71)/$BF$12) -> 166.51861 | BK71: 60 | BL71: =$BF$16*TANH(($BA$16*BK71)/$BF$16) -> 162.8638 | BN71: 60 | BO71: =$BF$21*TANH(($BA$21*BN71)/$BF$21) -> 158.40036
BH72: 61 | BI72: =$BF$12*TANH(($BA$12*BH72)/$BF$12) -> 166.55108
BH73: 62 | BI73: =$BF$12*TANH(($BA$12*BH73)/$BF$12) -> 166.57996
BH74: 63 | BI74: =$BF$12*TANH(($BA$12*BH74)/$BF$12) -> 166.60565
BH75: 77 | BI75: =$BF$12*TANH(($BA$12*BH75)/$BF$12) -> 166.77228
BH76: 78 | BI76: =$BF$12*TANH(($BA$12*BH76)/$BF$12) -> 166.77671
BH77: 79 | BI77: =$BF$12*TANH(($BA$12*BH77)/$BF$12) -> 166.78065
BH78: 80 | BI78: =$BF$12*TANH(($BA$12*BH78)/$BF$12) -> 166.78416
BH79: 81 | BI79: =$BF$12*TANH(($BA$12*BH79)/$BF$12) -> 166.78727
BH80: 82 | BI80: =$BF$12*TANH(($BA$12*BH80)/$BF$12) -> 166.79005
BH81: 83 | BI81: =$BF$12*TANH(($BA$12*BH81)/$BF$12) -> 166.79251
BH82: 84 | BI82: =$BF$12*TANH(($BA$12*BH82)/$BF$12) -> 166.79471
BH83: 85 | BI83: =$BF$12*TANH(($BA$12*BH83)/$BF$12) -> 166.79666
... BH118: 120 | BI118: =$BF$12*TANH(($BA$12*BH118)/$BF$12) -> 166.81208

Sheet Gomos
B1: DIMENSIONAMENTO AUTOMÁTICO DOS GOMOS
B3: INSTRUÇÕES
B4: Objetivo da Aba: Dimensionar cada gomo de modo que, após costurados, formem o velame semielíptico desejado. As dimensões do gomo são calculadas com base nas escalas. Cada gomo deve ser cortado de acordo com as dimensões de corte, as quais levam em consideração a margem para bainha e costura.
AO6: Cota do diâmetro do velame | AS6: Passo de a p/ plot do velame | AX6: Plot do raio b
AO7: Ponto | AP7: ="x [cm]" -> x [cm] | AQ7: ="y [cm]" -> y [cm] | AS7: a/99 | AT7: =I19/99 -> 0.0062650121 | AX7: Ponto | AY7: ="x [cm]" -> x [cm] | AZ7: ="y [cm]" -> y [cm]
AO8: P1 | AP8: 0 | AQ8: 0 | AX8: P1 | AY8: =$I$19 -> 0.6202362 | AZ8: =0 -> 0
B9: DADOS DE ENTRADA | M9: RESULTADOS | AO9: P2 | AP9: =I19 -> 0.6202362 | AQ9: 0 | AS9: Plot da curva que forma o velame | AX9: P2 | AY9: =$I$19 -> 0.6202362 | AZ9: =AZ10/2 -> 0.2192535
AO10: P3 | AP10: =I19*2 -> 1.2404724 | AQ10: 0 | AS10: Ponto | AT10: ="x [cm]" -> x [cm] | AU10: ="y [cm]" -> y [cm] | AV10: ="-x [cm]" -> -x [cm] | AX10: P3 | AY10: =$I$19 -> 0.6202362 | AZ10: =I18 -> 0.438507
B11: nG | C11: Número de gomos | AO11: ="Diâmetro: "&ROUND(AP10,3)&" m" -> Diâmetro: 1,24 m | AS11: 1 | AT11: =$I$19 -> 0.6202362 | AU11: =$I$18 -> 0.438507 | AV11: =-AT11+2*$I$19 -> 0.6202362 | AX11: ="b: "&ROUND(I18,3)&" m" -> b: 0,439 m
C12: Elemento | H12: Unid | I12: Valor | AS12: 2 | AT12: =AT11+Gomos!$AT$7 -> 0.62650121 | AU12: =SQRT( (1-((AT12-$I$19)^2/($I$19^2)))*($I$18^2)) -> 0.43848462 | AV12: =-AT12+2*$I$19 -> 0.61397119
C13: nG - Número de gomos que irão compôr o velame | H13: [-] | I13: 12 | AO13: Cota da altura do velame | AS13: 3 | AT13: =AT12+Gomos!$AT$7 -> 0.63276623 | AU13: =SQRT( (1-((AT13-$I$19)^2/($I$19^2)))*($I$18^2)) -> 0.4384175 | AV13: =-AT13+2*$I$19 -> 0.60770618 | AX13: Plot do raio a
C14: 8 ou 12 - Para velame de diâmetro maior que 1 m é recomendado 12 | AO14: Ponto | AP14: ="x [cm]" -> x [cm] | AQ14: ="y [cm]" -> y [cm] | AS14: 4 | AT14: =AT13+Gomos!$AT$7 -> 0.63903124 | AU14: =SQRT( (1-((AT14-$I$19)^2/($I$19^2)))*($I$18^2)) -> 0.43830561 | AV14: =-AT14+2*$I$19 -> 0.60144117 | AX14: Ponto | AY14: ="x [cm]" -> x [cm] | AZ14: ="y [cm]" -> y [cm]
AO15: P1 | AP15: 0 | AQ15: 0 | AS15: 5 | AT15: =AT14+Gomos!$AT$7 -> 0.64529625 | AU15: =SQRT( (1-((AT15-$I$19)^2/($I$19^2)))*($I$18^2)) -> 0.43814892 | AV15: =-AT15+2*$I$19 -> 0.59517615 | AX15: P1 | AY15: =$I$19 -> 0.6202362 | AZ15: 0
B16: ε | C16: Excentricidade da semielipse | AO16: P2 | AP16: 0 | AQ16: =AQ17/2 -> 0.2192535 | AS16: 6 | AT16: =AT15+Gomos!$AT$7 -> 0.65156126 | AU16: =SQRT( (1-((AT16-$I$19)^2/($I$19^2)))*($I$18^2)) -> 0.43794737 | AV16: =-AT16+2*$I$19 -> 0.58891114 | AX16: P2 | AY16: =(AY15+AY17)/2 -> 0.9303543 | AZ16: 0
C17: Elemento | H17: Unid | I17: Valor | AO17: P3 | AP17: 0 | AQ17: =I18 -> 0.438507 | AS17: 7 | AT17: =AT16+Gomos!$AT$7 -> 0.65782628 | AU17: =SQRT( (1-((AT17-$I$19)^2/($I$19^2)))*($I$18^2)) -> 0.43770092 | AV17: =-AT17+2*$I$19 -> 0.58264613 | AX17: P3 | AY17: =$I$19*2 -> 1.2404724 | AZ17: 0
C18: b - Raio menor da semielipse do velame | H18: [m] | I18: =I19*0.707 -> 0.438507 | AO18: ="Altura: "&ROUND(AQ17,3)&" m" -> Altura: 0,439 m | AS18: 8 | AT18: =AT17+Gomos!$AT$7 -> 0.66409129 | AU18: =SQRT( (1-((AT18-$I$19)^2/($I$19^2)))*($I$18^2)) -> 0.43740947 | AV18: =-AT18+2*$I$19 -> 0.57638112 | AX18: ="a: "&ROUND(I19,3)&" m" -> a: 0,62 m
C19: a - Raio maior da semielipse do velame | H19: [m] | I19: =Dimensionamento!T18/2 -> 0.6202362 | AS19: 9 | AT19: =AT18+Gomos!$AT$7 -> 0.6703563 | AU19: =SQRT( (1-((AT19-$I$19)^2/($I$19^2)))*($I$18^2)) -> 0.43707294 | AV19: =-AT19+2*$I$19 -> 0.57011611
AS20: 10 | AT20: =AT19+Gomos!$AT$7 -> 0.67662131 | AU20: =SQRT( (1-((AT20-$I$19)^2/($I$19^2)))*($I$18^2)) -> 0.43669122 | AV20: =-AT20+2*$I$19 -> 0.56385109 | AX20: =" Raio menor da semielipse (b): "&ROUND(I18,3)&" m" -> Raio menor da semielipse (b): 0,439 m
B21: G | C21: Dimensões do gomo | AS21: 11 | AT21: =AT20+Gomos!$AT$7 -> 0.68288632 | AU21: =SQRT( (1-((AT21-$I$19)^2/($I$19^2)))*($I$18^2)) -> 0.43626421 | AV21: =-AT21+2*$I$19 -> 0.55758608 | AX21: =" Raio maior da semielipse (a): "&ROUND(I19,3)&" m" -> Raio maior da semielipse (a): 0,62 m
C22: Elemento | H22: Unid | I22: Valor | AS22: 12 | AT22: =AT21+Gomos!$AT$7 -> 0.68915134 | AU22: =SQRT( (1-((AT22-$I$19)^2/($I$19^2)))*($I$18^2)) -> 0.43579176 | AV22: =-AT22+2*$I$19 -> 0.55132107
C23: xG - Base do gomo | H23: [m] | I23: =Dimensionamento!T19/I13 -> 0.32475492 | AS23: 13 | AT23: =AT22+Gomos!$AT$7 -> 0.69541635 | AU23: =SQRT( (1-((AT23-$I$19)^2/($I$19^2)))*($I$18^2)) -> 0.43527372 | AV23: =-AT23+2*$I$19 -> 0.54505606
C24: yG - Altura do gomo | H24: [m] | I24: =(0.6482*Dimensionamento!T18) -> 0.80407421 | AS24: 14 | AT24: =AT23+Gomos!$AT$7 -> 0.70168136 | AU24: =SQRT( (1-((AT24-$I$19)^2/($I$19^2)))*($I$18^2)) -> 0.43470994 | AV24: =-AT24+2*$I$19 -> 0.53879104
C25: AG - Área superficial de cada gomo | H25: [m²] | I25: =Dimensionamento!T20/I13 -> 0.16346244 | AS25: 15 | AT25: =AT24+Gomos!$AT$7 -> 0.70794637 | AU25: =SQRT( (1-((AT25-$I$19)^2/($I$19^2)))*($I$18^2)) -> 0.43410023 | AV25: =-AT25+2*$I$19 -> 0.53252603
AS26: 16 | AT26: =AT25+Gomos!$AT$7 -> 0.71421138 | AU26: =SQRT( (1-((AT26-$I$19)^2/($I$19^2)))*($I$18^2)) -> 0.4334444 | AV26: =-AT26+2*$I$19 -> 0.52626102
B27: Corte | C27: Dimensões de corte | AS27: 17 | AT27: =AT26+Gomos!$AT$7 -> 0.7204764 | AU27: =SQRT( (1-((AT27-$I$19)^2/($I$19^2)))*($I$18^2)) -> 0.43274225 | AV27: =-AT27+2*$I$19 -> 0.51999601
C28: Elemento | H28: Unid | I28: Valor | AS28: 18 | AT28: =AT27+Gomos!$AT$7 -> 0.72674141 | AU28: =SQRT( (1-((AT28-$I$19)^2/($I$19^2)))*($I$18^2)) -> 0.43199354 | AV28: =-AT28+2*$I$19 -> 0.513731
C29: c - Margem de costura | H29: [cm] | I29: 2 | AS29: 19 | AT29: =AT28+Gomos!$AT$7 -> 0.73300642 | AU29: =SQRT( (1-((AT29-$I$19)^2/($I$19^2)))*($I$18^2)) -> 0.43119803 | AV29: =-AT29+2*$I$19 -> 0.50746598
C30: As margens nas laterais e abaixo da base do gomo são ~2 cm | AS30: 20 | AT30: =AT29+Gomos!$AT$7 -> 0.73927143 | AU30: =SQRT( (1-((AT30-$I$19)^2/($I$19^2)))*($I$18^2)) -> 0.43035547 | AV30: =-AT30+2*$I$19 -> 0.50120097
C31: xGc - Comprimento de corte | H31: [m] | I31: =I23+(2*I29) -> 4.3247549 | AS31: 21 | AT31: =AT30+Gomos!$AT$7 -> 0.74553645 | AU31: =SQRT( (1-((AT31-$I$19)^2/($I$19^2)))*($I$18^2)) -> 0.42946557 | AV31: =-AT31+2*$I$19 -> 0.49493596
C32: yGc - Altura de corte | H32: [m] | I32: =I24+I29 -> 2.8040742 | AS32: 22 | AT32: =AT31+Gomos!$AT$7 -> 0.75180146 | AU32: =SQRT( (1-((AT32-$I$19)^2/($I$19^2)))*($I$18^2)) -> 0.42852805 | AV32: =-AT32+2*$I$19 -> 0.48867095
C33: Agc - Área superficial de cada gomo com as margens | H33: [m] | I33: =(I31*I25)/I23 -> 2.1768262 | AS33: 23 | AT33: =AT32+Gomos!$AT$7 -> 0.75806647 | AU33: =SQRT( (1-((AT33-$I$19)^2/($I$19^2)))*($I$18^2)) -> 0.42754259 | AV33: =-AT33+2*$I$19 -> 0.48240594
AS34: 24 | AT34: =AT33+Gomos!$AT$7 -> 0.76433148 | AU34: =SQRT( (1-((AT34-$I$19)^2/($I$19^2)))*($I$18^2)) -> 0.42650885 | AV34: =-AT34+2*$I$19 -> 0.47614092
AS35: 25 | AT35: =AT34+Gomos!$AT$7 -> 0.77059649 | AU35: =SQRT( (1-((AT35-$I$19)^2/($I$19^2)))*($I$18^2)) -> 0.42542648 | AV35: =-AT35+2*$I$19 -> 0.46987591
AS36: 26 | AT36: =AT35+Gomos!$AT$7 -> 0.77686151 | AU36: =SQRT( (1-((AT36-$I$19)^2/($I$19^2)))*($I$18^2)) -> 0.42429512 | AV36: =-AT36+2*$I$19 -> 0.4636109
AS37: 27 | AT37: =AT36+Gomos!$AT$7 -> 0.78312652 | AU37: =SQRT( (1-((AT37-$I$19)^2/($I$19^2)))*($I$18^2)) -> 0.42311436 | AV37: =-AT37+2*$I$19 -> 0.45734589
AS38: 28 | AT38: =AT37+Gomos!$AT$7 -> 0.78939153 | AU38: =SQRT( (1-((AT38-$I$19)^2/($I$19^2)))*($I$18^2)) -> 0.4218838 | AV38: =-AT38+2*$I$19 -> 0.45108087
AS39: 29 | AT39: =AT38+Gomos!$AT$7 -> 0.79565654 | AU39: =SQRT( (1-((AT39-$I$19)^2/($I$19^2)))*($I$18^2)) -> 0.420603 | AV39: =-AT39+2*$I$19 -> 0.44481586
AS40: 30 | AT40: =AT39+Gomos!$AT$7 -> 0.80192155 | AU40: =SQRT( (1-((AT40-$I$19)^2/($I$19^2)))*($I$18^2)) -> 0.41927149 | AV40: =-AT40+2*$I$19 -> 0.43855085
AS41: 31 | AT41: =AT40+Gomos!$AT$7 -> 0.80818657 | AU41: =SQRT( (1-((AT41-$I$19)^2/($I$19^2)))*($I$18^2)) -> 0.4178888 | AV41: =-AT41+2*$I$19 -> 0.43228584
AS42: 32 | AT42: =AT41+Gomos!$AT$7 -> 0.81445158 | AU42: =SQRT( (1-((AT42-$I$19)^2/($I$19^2)))*($I$18^2)) -> 0.41645441 | AV42: =-AT42+2*$I$19 -> 0.42602083
AS43: 33 | AT43: =AT42+Gomos!$AT$7 -> 0.82071659 | AU43: =SQRT( (1-((AT43-$I$19)^2/($I$19^2)))*($I$18^2)) -> 0.41496778 | AV43: =-AT43+2*$I$19 -> 0.41975581
AS44: 34 | AT44: =AT43+Gomos!$AT$7 -> 0.8269816 | AU44: =SQRT( (1-((AT44-$I$19)^2/($I$19^2)))*($I$18^2)) -> 0.41342836 | AV44: =-AT44+2*$I$19 -> 0.4134908
AS45: 35 | AT45: =AT44+Gomos!$AT$7 -> 0.83324662 | AU45: =SQRT( (1-((AT45-$I$19)^2/($I$19^2)))*($I$18^2)) -> 0.41183555 | AV45: =-AT45+2*$I$19 -> 0.40722579
... AS109: 99 | AT109: =AT108+Gomos!$AT$7 -> 1.2342074 | AU109: =SQRT( (1-((AT109-$I$19)^2/($I$19^2)))*($I$18^2)) -> 0.062169081 | AV109: =-AT109+2*$I$19 -> 0.0062650121
AS110: 100 | AT110: =AT109+Gomos!$AT$7 -> 1.2404724 | AU110: 0 | AV110: =-AT110+2*$I$19 -> -5.3290705e-15

Sheet Gabarito
AP3: Linhas Horizontais | AT3: Linhas Verticais
AP5: H1 | AQ5: =Escalas!Q12 -> 16.237746 | AT5: V0 | AU5: =Escalas!T12 -> 0
AP6: H1/2 | AQ6: =AQ5/2 -> 8.1188729 | AT6: V0/2 | AU6: =AU5/2 -> 0
AP7: Ponto | AQ7: ="x [cm]" -> x [cm] | AR7: ="y [cm]" -> y [cm] | AT7: Ponto | AU7: ="x [cm]" -> x [cm] | AV7: ="y [cm]" -> y [cm]
AP8: P1 | AQ8: 0 | AR8: =Escalas!$AC$13 -> 0 | AT8: P1 | AU8: 0 | AV8: =Escalas!$AC$13 -> 0
AP9: P2 | AQ9: =AQ8+$AQ$6 -> 8.1188729 | AR9: =Escalas!$AC$13 -> 0 | AT9: P2 | AU9: 0 | AV9: =Escalas!$AC$13 -> 0
AP10: P3 | AQ10: =AQ9+$AQ$6 -> 16.237746 | AR10: =Escalas!$AC$13 -> 0 | AT10: P3 | AU10: 0 | AV10: =Escalas!$AC$13 -> 0
AP12: H2 | AQ12: =Escalas!Q13 -> 15.828391 | AT12: V1 | AU12: =Escalas!T13 -> 9.923756
AP13: H2/2 | AQ13: =AQ12/2 -> 7.9141954 | AT13: V1/2 | AU13: =AU12/2 -> 4.961878
AP14: Ponto | AQ14: ="x [cm]" -> x [cm] | AR14: ="y [cm]" -> y [cm] | AT14: Ponto | AU14: ="x [cm]" -> x [cm] | AV14: ="y [cm]" -> y [cm]
AP15: P1 | AQ15: 0 | AR15: =Escalas!$AC$14 -> 9.923756 | AT15: P1 | AU15: 0 | AV15: =AU5 -> 0
AP16: P2 | AQ16: =AQ15+$AQ$13 -> 7.9141954 | AR16: =Escalas!$AC$14 -> 9.923756 | AT16: P2 | AU16: 0 | AV16: =AV15+$AU$13 -> 4.961878
AP17: P3 | AQ17: =AQ16+$AQ$13 -> 15.828391 | AR17: =Escalas!$AC$14 -> 9.923756 | AT17: P3 | AU17: 0 | AV17: =AV16+$AU$13 -> 9.923756
AP19: H3 | AQ19: =Escalas!Q14 -> 13.384666 | AT19: V2 | AU19: =Escalas!T14 -> 17.366573
AP20: H3/2 | AQ20: =AQ19/2 -> 6.692333 | AT20: V2/2 | AU20: =AU19/2 -> 8.6832865
AP21: Ponto | AQ21: ="x [cm]" -> x [cm] | AR21: ="y [cm]" -> y [cm] | AT21: Ponto | AU21: ="x [cm]" -> x [cm] | AV21: ="y [cm]" -> y [cm]
AP22: P1 | AQ22: 0 | AR22: =Escalas!$AC$15 -> 27.290329 | AT22: P1 | AU22: 0 | AV22: =AU12 -> 9.923756
AP23: P2 | AQ23: =AQ22+$AQ$20 -> 6.692333 | AR23: =Escalas!$AC$15 -> 27.290329 | AT23: P2 | AU23: 0 | AV23: =AV22+$AU$20 -> 18.607043
AP24: P3 | AQ24: =AQ23+$AQ$20 -> 13.384666 | AR24: =Escalas!$AC$15 -> 27.290329 | AT24: P3 | AU24: 0 | AV24: =AV23+$AU$20 -> 27.290329
AP26: H4 | AQ26: =Escalas!Q15 -> 10.668038 | AT26: V3 | AU26: =Escalas!T15 -> 12.404695
AP27: H4/2 | AQ27: =AQ26/2 -> 5.3340189 | AT27: V3/2 | AU27: =AU26/2 -> 6.2023475
AP28: Ponto | AQ28: ="x [cm]" -> x [cm] | AR28: ="y [cm]" -> y [cm] | AT28: Ponto | AU28: ="x [cm]" -> x [cm] | AV28: ="y [cm]" -> y [cm]
AP29: P1 | AQ29: 0 | AR29: =Escalas!$AC$16 -> 39.695024 | AT29: P1 | AU29: 0 | AV29: =AV24 -> 27.290329
AP30: P2 | AQ30: =AQ29+$AQ$27 -> 5.3340189 | AR30: =Escalas!$AC$16 -> 39.695024 | AT30: P2 | AU30: 0 | AV30: =AV29+$AU$27 -> 33.492677
AP31: P3 | AQ31: =AQ30+$AQ$27 -> 10.668038 | AR31: =Escalas!$AC$16 -> 39.695024 | AT31: P3 | AU31: 0 | AV31: =AV30+$AU$27 -> 39.695024
AP33: H5 | AQ33: =Escalas!Q16 -> 8.3731692 | AT33: V4 | AU33: =Escalas!T16 -> 9.923756
AP34: H5/2 | AQ34: =AQ33/2 -> 4.1865846 | AT34: V4/2 | AU34: =AU33/2 -> 4.961878
AP35: Ponto | AQ35: ="x [cm]" -> x [cm] | AR35: ="y [cm]" -> y [cm] | AT35: Ponto | AU35: ="x [cm]" -> x [cm] | AV35: ="y [cm]" -> y [cm]
AP36: P1 | AQ36: 0 | AR36: =Escalas!$AC$17 -> 49.61878 | AT36: P1 | AU36: 0 | AV36: =AV31 -> 39.695024
AP37: P2 | AQ37: =AQ36+$AQ$34 -> 4.1865846 | AR37: =Escalas!$AC$17 -> 49.61878 | AT37: P2 | AU37: 0 | AV37: =AV36+$AU$34 -> 44.656902
AP38: P3 | AQ38: =AQ37+$AQ$34 -> 8.3731692 | AR38: =Escalas!$AC$17 -> 49.61878 | AT38: P3 | AU38: 0 | AV38: =AV37+$AU$34 -> 49.61878
AP40: H6 | AQ40: =Escalas!Q17 -> 5.6813503 | AT40: V5 | AU40: =Escalas!T17 -> 9.923756
AP41: H6/2 | AQ41: =AQ40/2 -> 2.8406752 | AT41: V5/2 | AU41: =AU40/2 -> 4.961878
AP42: Ponto | AQ42: ="x [cm]" -> x [cm] | AR42: ="y [cm]" -> y [cm] | AT42: Ponto | AU42: ="x [cm]" -> x [cm] | AV42: ="y [cm]" -> y [cm]
AP43: P1 | AQ43: 0 | AR43: =Escalas!$AC$18 -> 59.542536 | AT43: P1 | AU43: 0 | AV43: =AV38 -> 49.61878
AP44: P2 | AQ44: =AQ43+$AQ$41 -> 2.8406752 | AR44: =Escalas!$AC$18 -> 59.542536 | AT44: P2 | AU44: 0 | AV44: =AV43+$AU$41 -> 54.580658
AP45: P3 | AQ45: =AQ44+$AQ$41 -> 5.6813503 | AR45: =Escalas!$AC$18 -> 59.542536 | AT45: P3 | AU45: 0 | AV45: =AV44+$AU$41 -> 59.542536
AP47: H7 | AQ47: =Escalas!Q18 -> 3.6469803 | AT47: V6 | AU47: =Escalas!T18 -> 7.442817
AP48: H7/2 | AQ48: =AQ47/2 -> 1.8234902 | AT48: V6/2 | AU48: =AU47/2 -> 3.7214085
AP49: Ponto | AQ49: ="x [cm]" -> x [cm] | AR49: ="y [cm]" -> y [cm] | AT49: Ponto | AU49: ="x [cm]" -> x [cm] | AV49: ="y [cm]" -> y [cm]
AP50: P1 | AQ50: 0 | AR50: =Escalas!$AC$19 -> 66.985353 | AT50: P1 | AU50: 0 | AV50: =AV45 -> 59.542536
AP51: P2 | AQ51: =AQ50+$AQ$48 -> 1.8234902 | AR51: =Escalas!$AC$19 -> 66.985353 | AT51: P2 | AU51: 0 | AV51: =AV50+$AU$48 -> 63.263945
AP52: P3 | AQ52: =AQ51+$AQ$48 -> 3.6469803 | AR52: =Escalas!$AC$19 -> 66.985353 | AT52: P3 | AU52: 0 | AV52: =AV51+$AU$48 -> 66.985353
AP54: H0 | AQ54: =Escalas!Q19 -> 0 | AT54: V7 | AU54: =Escalas!T19 -> 13.42188
AP55: H0/2 | AQ55: =AQ54/2 -> 0 | AT55: V7/2 | AU55: =AU54/2 -> 6.71094
AP56: Ponto | AQ56: ="x [cm]" -> x [cm] | AR56: ="y [cm]" -> y [cm] | AT56: Ponto | AU56: ="x [cm]" -> x [cm] | AV56: ="y [cm]" -> y [cm]
AP57: P1 | AQ57: 0 | AR57: =Escalas!$AC$20 -> 80.407233 | AT57: P1 | AU57: 0 | AV57: =AV52 -> 66.985353
AP58: P2 | AQ58: =AQ57+$AQ$55 -> 0 | AR58: =Escalas!$AC$20 -> 80.407233 | AT58: P2 | AU58: 0 | AV58: =AV57+$AU$55 -> 73.696293
AP59: P3 | AQ59: =AQ58+$AQ$55 -> 0 | AR59: =Escalas!$AC$20 -> 80.407233 | AT59: P3 | AU59: 0 | AV59: =AV58+$AU$55 -> 80.407233
AP61: xG | AQ61: =AQ5*2 -> 32.475492 | AT61: yG | AU61: =SUM(AU5,AU12,AU19,AU26,AU33,AU40,AU47,AU54) -> 80.407233
AP65: Base do gabarito | AT65: Altura do gabarito
AP66: Ponto | AQ66: ="x [cm]" -> x [cm] | AR66: ="y [cm]" -> y [cm] | AT66: Ponto | AU66: ="x [cm]" -> x [cm] | AV66: ="y [cm]" -> y [cm]
AP67: P1 | AQ67: =-AQ69 -> -18.237746 | AR67: =-Gomos!$I$29 -> -2 | AT67: P1 | AU67: =-((Gomos!I23*100/2)+Gomos!I29) -> -18.237746 | AV67: =-Gomos!$I$29 -> -2
AP68: P2 | AQ68: 0 | AR68: =-Gomos!$I$29 -> -2 | AT68: P2 | AU68: =AU67 -> -18.237746 | AV68: =AU61/2 -> 40.203617
AP69: P3 | AQ69: =(AQ61/2)+Gomos!$I$29 -> 18.237746 | AR69: =-Gomos!$I$29 -> -2 | AT69: P3 | AU69: =AU68 -> -18.237746 | AV69: =AU61 -> 80.407233
AP71: Base | AQ71: =AQ61+Gomos!$I$29*2 -> 36.475492 | AT71: Altura | AU71: =AU61+Gomos!$I$29 -> 82.407233
AP75: Margem
AP76: Ponto | AQ76: ="x [cm]" -> x [cm] | AR76: ="y [cm]" -> y [cm]
AP77: P1 | AQ77: =AQ5 -> 16.237746 | AR77: 0
AP78: P2 | AQ78: =AQ5+Gomos!I29 -> 18.237746 | AR78: 0
AP79: ="Margem: "&Gomos!I29&" ✂" -> Margem: 2 ✂

Sheet Vent Hole
B1: DIMENSIONAMENTO DO VENT HOLE
B3: INSTRUÇÕES | AN3: Circunferência do Velame | AS3: Circunferência do Hole | AX3: Plot do raio do Velame
B4: Objetivo da Aba: Determinar a dimensão do furo de ventilação (vent hole) localizado no topo do velame. O vent hole proporciona uma elevação do Cd do velame e estabilidade de descida ao sistema velame-carga. | AN4: Âng [°] | AO4: Raio [m] | AP4: x | AQ4: y | AS4: Âng [°] | AT4: Raio [m] | AU4: x | AV4: y | AX4: Raio do Velame | AZ4: =Dimensionamento!T18/2 -> 0.6202362
AN5: 0 | AO5: =Dimensionamento!$T$18/2 -> 0.6202362 | AP5: =AO5*COS(RADIANS(AN5)) -> 0.6202362 | AQ5: =AO5*SIN(RADIANS(AN5)) -> 0 | AS5: 0 | AT5: =$I$15/2 -> 0.024809448 | AU5: =AT5*COS(RADIANS(AS5)) -> 0.024809448 | AV5: =AT5*SIN(RADIANS(AS5)) -> 0 | AX5: Raio do Velame/5 | AZ5: =AZ4/5 -> 0.12404724
AN6: 5 | AO6: =Dimensionamento!$T$18/2 -> 0.6202362 | AP6: =AO6*COS(RADIANS(AN6)) -> 0.61787602 | AQ6: =AO6*SIN(RADIANS(AN6)) -> 0.054057147 | AS6: 5 | AT6: =$I$15/2 -> 0.024809448 | AU6: =AT6*COS(RADIANS(AS6)) -> 0.024715041 | AV6: =AT6*SIN(RADIANS(AS6)) -> 0.0021622859 | AX6: Ponto | AY6: x | AZ6: y
AN7: 10 | AO7: =Dimensionamento!$T$18/2 -> 0.6202362 | AP7: =AO7*COS(RADIANS(AN7)) -> 0.61081342 | AQ7: =AO7*SIN(RADIANS(AN7)) -> 0.10770289 | AS7: 10 | AT7: =$I$15/2 -> 0.024809448 | AU7: =AT7*COS(RADIANS(AS7)) -> 0.024432537 | AV7: =AT7*SIN(RADIANS(AS7)) -> 0.0043081155 | AX7: 1 | AY7: 0 | AZ7: 0
AN8: 15 | AO8: =Dimensionamento!$T$18/2 -> 0.6202362 | AP8: =AO8*COS(RADIANS(AN8)) -> 0.59910217 | AQ8: =AO8*SIN(RADIANS(AN8)) -> 0.16052894 | AS8: 15 | AT8: =$I$15/2 -> 0.024809448 | AU8: =AT8*COS(RADIANS(AS8)) -> 0.023964087 | AV8: =AT8*SIN(RADIANS(AS8)) -> 0.0064211577 | AX8: 2 | AY8: =AY7+$AZ$5 -> 0.12404724 | AZ8: 0
B9: DADOS DE ENTRADA | M9: RESULTADOS | AN9: 20 | AO9: =Dimensionamento!$T$18/2 -> 0.6202362 | AP9: =AO9*COS(RADIANS(AN9)) -> 0.58283138 | AQ9: =AO9*SIN(RADIANS(AN9)) -> 0.21213327 | AS9: 20 | AT9: =$I$15/2 -> 0.024809448 | AU9: =AT9*COS(RADIANS(AS9)) -> 0.023313255 | AV9: =AT9*SIN(RADIANS(AS9)) -> 0.008485331 | AX9: 3 | AY9: =AY8+$AZ$5 -> 0.24809448 | AZ9: 0
AN10: 25 | AO10: =Dimensionamento!$T$18/2 -> 0.6202362 | AP10: =AO10*COS(RADIANS(AN10)) -> 0.5621249 | AQ10: =AO10*SIN(RADIANS(AN10)) -> 0.26212315 | AS10: 25 | AT10: =$I$15/2 -> 0.024809448 | AU10: =AT10*COS(RADIANS(AS10)) -> 0.022484996 | AV10: =AT10*SIN(RADIANS(AS10)) -> 0.010484926 | AX10: 4 | AY10: =AY9+$AZ$5 -> 0.37214172 | AZ10: 0
B11: VH | C11: Diâmetro do vent hole do velame | AN11: 30 | AO11: =Dimensionamento!$T$18/2 -> 0.6202362 | AP11: =AO11*COS(RADIANS(AN11)) -> 0.53714031 | AQ11: =AO11*SIN(RADIANS(AN11)) -> 0.3101181 | AS11: 30 | AT11: =$I$15/2 -> 0.024809448 | AU11: =AT11*COS(RADIANS(AS11)) -> 0.021485612 | AV11: =AT11*SIN(RADIANS(AS11)) -> 0.012404724 | AX11: 5 | AY11: =AY10+$AZ$5 -> 0.49618896 | AZ11: 0
C12: Elemento | H12: Unid | I12: Valor | AN12: 35 | AO12: =Dimensionamento!$T$18/2 -> 0.6202362 | AP12: =AO12*COS(RADIANS(AN12)) -> 0.50806775 | AQ12: =AO12*SIN(RADIANS(AN12)) -> 0.35575287 | AS12: 35 | AT12: =$I$15/2 -> 0.024809448 | AU12: =AT12*COS(RADIANS(AS12)) -> 0.02032271 | AV12: =AT12*SIN(RADIANS(AS12)) -> 0.014230115 | AX12: 6 | AY12: =AY11+$AZ$5 -> 0.6202362 | AZ12: 0
C13: dvh/dvel - Razão entre o diâmetro do vent hole e do velame | H13: [%] | I13: 4 | AN13: 40 | AO13: =Dimensionamento!$T$18/2 -> 0.6202362 | AP13: =AO13*COS(RADIANS(AN13)) -> 0.4751285 | AQ13: =AO13*SIN(RADIANS(AN13)) -> 0.39868015 | AS13: 40 | AT13: =$I$15/2 -> 0.024809448 | AU13: =AT13*COS(RADIANS(AS13)) -> 0.01900514 | AV13: =AT13*SIN(RADIANS(AS13)) -> 0.015947206
C14: Recomenda-se valor entre 4 e 12% | AN14: 45 | AO14: =Dimensionamento!$T$18/2 -> 0.6202362 | AP14: =AO14*COS(RADIANS(AN14)) -> 0.43857322 | AQ14: =AO14*SIN(RADIANS(AN14)) -> 0.43857322 | AS14: 45 | AT14: =$I$15/2 -> 0.024809448 | AU14: =AT14*COS(RADIANS(AS14)) -> 0.017542929 | AV14: =AT14*SIN(RADIANS(AS14)) -> 0.017542929 | AX14: Plot do raio do Hole
C15: dvh - Diâmetro do vent hole | H15: [m] | I15: =Dimensionamento!T18*(I13/100) -> 0.049618896 | AN15: 50 | AO15: =Dimensionamento!$T$18/2 -> 0.6202362 | AP15: =AO15*COS(RADIANS(AN15)) -> 0.39868015 | AQ15: =AO15*SIN(RADIANS(AN15)) -> 0.4751285 | AS15: 50 | AT15: =$I$15/2 -> 0.024809448 | AU15: =AT15*COS(RADIANS(AS15)) -> 0.015947206 | AV15: =AT15*SIN(RADIANS(AS15)) -> 0.01900514 | AX15: Raio do Furo | AZ15: =I15/2 -> 0.024809448
C16: Avh - Área do vent hole | H16: [m²] | I16: =(PI()*I15^2)/4 -> 0.0019336777 | AN16: 55 | AO16: =Dimensionamento!$T$18/2 -> 0.6202362 | AP16: =AO16*COS(RADIANS(AN16)) -> 0.35575287 | AQ16: =AO16*SIN(RADIANS(AN16)) -> 0.50806775 | AS16: 55 | AT16: =$I$15/2 -> 0.024809448 | AU16: =AT16*COS(RADIANS(AS16)) -> 0.014230115 | AV16: =AT16*SIN(RADIANS(AS16)) -> 0.02032271 | AX16: Raio do Velame/5 | AZ16: =AZ15/4 -> 0.006202362
AN17: 60 | AO17: =Dimensionamento!$T$18/2 -> 0.6202362 | AP17: =AO17*COS(RADIANS(AN17)) -> 0.3101181 | AQ17: =AO17*SIN(RADIANS(AN17)) -> 0.53714031 | AS17: 60 | AT17: =$I$15/2 -> 0.024809448 | AU17: =AT17*COS(RADIANS(AS17)) -> 0.012404724 | AV17: =AT17*SIN(RADIANS(AS17)) -> 0.021485612 | AX17: Ponto | AY17: x | AZ17: y
AN18: 70 | AO18: =Dimensionamento!$T$18/2 -> 0.6202362 | AP18: =AO18*COS(RADIANS(AN18)) -> 0.21213327 | AQ18: =AO18*SIN(RADIANS(AN18)) -> 0.58283138 | AS18: 70 | AT18: =$I$15/2 -> 0.024809448 | AU18: =AT18*COS(RADIANS(AS18)) -> 0.008485331 | AV18: =AT18*SIN(RADIANS(AS18)) -> 0.023313255 | AX18: 2 | AY18: 0 | AZ18: 0
AN19: 75 | AO19: =Dimensionamento!$T$18/2 -> 0.6202362 | AP19: =AO19*COS(RADIANS(AN19)) -> 0.16052894 | AQ19: =AO19*SIN(RADIANS(AN19)) -> 0.59910217 | AS19: 75 | AT19: =$I$15/2 -> 0.024809448 | AU19: =AT19*COS(RADIANS(AS19)) -> 0.0064211577 | AV19: =AT19*SIN(RADIANS(AS19)) -> 0.023964087 | AX19: 3 | AY19: =AY18-$AZ$16 -> -0.006202362 | AZ19: 0
AN20: 80 | AO20: =Dimensionamento!$T$18/2 -> 0.6202362 | AP20: =AO20*COS(RADIANS(AN20)) -> 0.10770289 | AQ20: =AO20*SIN(RADIANS(AN20)) -> 0.61081342 | AS20: 80 | AT20: =$I$15/2 -> 0.024809448 | AU20: =AT20*COS(RADIANS(AS20)) -> 0.0043081155 | AV20: =AT20*SIN(RADIANS(AS20)) -> 0.024432537 | AX20: 4 | AY20: =AY19-$AZ$16 -> -0.012404724 | AZ20: 0
AN21: 85 | AO21: =Dimensionamento!$T$18/2 -> 0.6202362 | AP21: =AO21*COS(RADIANS(AN21)) -> 0.054057147 | AQ21: =AO21*SIN(RADIANS(AN21)) -> 0.61787602 | AS21: 85 | AT21: =$I$15/2 -> 0.024809448 | AU21: =AT21*COS(RADIANS(AS21)) -> 0.0021622859 | AV21: =AT21*SIN(RADIANS(AS21)) -> 0.024715041 | AX21: 5 | AY21: =AY20-$AZ$16 -> -0.018607086 | AZ21: 0
AN22: 90 | AO22: =Dimensionamento!$T$18/2 -> 0.6202362 | AP22: =AO22*COS(RADIANS(AN22)) -> 3.7994071e-17 | AQ22: =AO22*SIN(RADIANS(AN22)) -> 0.6202362 | AS22: 90 | AT22: =$I$15/2 -> 0.024809448 | AU22: =AT22*COS(RADIANS(AS22)) -> 1.5197629e-18 | AV22: =AT22*SIN(RADIANS(AS22)) -> 0.024809448 | AX22: 6 | AY22: =AY21-$AZ$16 -> -0.024809448 | AZ22: 0
AN23: 95 | AO23: =Dimensionamento!$T$18/2 -> 0.6202362 | AP23: =AO23*COS(RADIANS(AN23)) -> -0.054057147 | AQ23: =AO23*SIN(RADIANS(AN23)) -> 0.61787602 | AS23: 95 | AT23: =$I$15/2 -> 0.024809448 | AU23: =AT23*COS(RADIANS(AS23)) -> -0.0021622859 | AV23: =AT23*SIN(RADIANS(AS23)) -> 0.024715041
AN24: 100 | AO24: =Dimensionamento!$T$18/2 -> 0.6202362 | AP24: =AO24*COS(RADIANS(AN24)) -> -0.10770289 | AQ24: =AO24*SIN(RADIANS(AN24)) -> 0.61081342 | AS24: 100 | AT24: =$I$15/2 -> 0.024809448 | AU24: =AT24*COS(RADIANS(AS24)) -> -0.0043081155 | AV24: =AT24*SIN(RADIANS(AS24)) -> 0.024432537 | AX24: ="Raio do Velame: "&ROUND(Dimensionamento!T18/2,3)&" m" -> Raio do Velame: 0,62 m
AN25: 105 | AO25: =Dimensionamento!$T$18/2 -> 0.6202362 | AP25: =AO25*COS(RADIANS(AN25)) -> -0.16052894 | AQ25: =AO25*SIN(RADIANS(AN25)) -> 0.59910217 | AS25: 105 | AT25: =$I$15/2 -> 0.024809448 | AU25: =AT25*COS(RADIANS(AS25)) -> -0.0064211577 | AV25: =AT25*SIN(RADIANS(AS25)) -> 0.023964087 | AX25: ="Raio do Hole: "&ROUND(I15/2,3)&" m" -> Raio do Hole: 0,025 m
AN26: 110 | AO26: =Dimensionamento!$T$18/2 -> 0.6202362 | AP26: =AO26*COS(RADIANS(AN26)) -> -0.21213327 | AQ26: =AO26*SIN(RADIANS(AN26)) -> 0.58283138 | AS26: 110 | AT26: =$I$15/2 -> 0.024809448 | AU26: =AT26*COS(RADIANS(AS26)) -> -0.008485331 | AV26: =AT26*SIN(RADIANS(AS26)) -> 0.023313255
AN27: 115 | AO27: =Dimensionamento!$T$18/2 -> 0.6202362 | AP27: =AO27*COS(RADIANS(AN27)) -> -0.26212315 | AQ27: =AO27*SIN(RADIANS(AN27)) -> 0.5621249 | AS27: 115 | AT27: =$I$15/2 -> 0.024809448 | AU27: =AT27*COS(RADIANS(AS27)) -> -0.010484926 | AV27: =AT27*SIN(RADIANS(AS27)) -> 0.022484996
AN28: 120 | AO28: =Dimensionamento!$T$18/2 -> 0.6202362 | AP28: =AO28*COS(RADIANS(AN28)) -> -0.3101181 | AQ28: =AO28*SIN(RADIANS(AN28)) -> 0.53714031 | AS28: 120 | AT28: =$I$15/2 -> 0.024809448 | AU28: =AT28*COS(RADIANS(AS28)) -> -0.012404724 | AV28: =AT28*SIN(RADIANS(AS28)) -> 0.021485612
AN29: 125 | AO29: =Dimensionamento!$T$18/2 -> 0.6202362 | AP29: =AO29*COS(RADIANS(AN29)) -> -0.35575287 | AQ29: =AO29*SIN(RADIANS(AN29)) -> 0.50806775 | AS29: 125 | AT29: =$I$15/2 -> 0.024809448 | AU29: =AT29*COS(RADIANS(AS29)) -> -0.014230115 | AV29: =AT29*SIN(RADIANS(AS29)) -> 0.02032271
AN30: 130 | AO30: =Dimensionamento!$T$18/2 -> 0.6202362 | AP30: =AO30*COS(RADIANS(AN30)) -> -0.39868015 | AQ30: =AO30*SIN(RADIANS(AN30)) -> 0.4751285 | AS30: 130 | AT30: =$I$15/2 -> 0.024809448 | AU30: =AT30*COS(RADIANS(AS30)) -> -0.015947206 | AV30: =AT30*SIN(RADIANS(AS30)) -> 0.01900514
AN31: 135 | AO31: =Dimensionamento!$T$18/2 -> 0.6202362 | AP31: =AO31*COS(RADIANS(AN31)) -> -0.43857322 | AQ31: =AO31*SIN(RADIANS(AN31)) -> 0.43857322 | AS31: 135 | AT31: =$I$15/2 -> 0.024809448 | AU31: =AT31*COS(RADIANS(AS31)) -> -0.017542929 | AV31: =AT31*SIN(RADIANS(AS31)) -> 0.017542929
AN32: 140 | AO32: =Dimensionamento!$T$18/2 -> 0.6202362 | AP32: =AO32*COS(RADIANS(AN32)) -> -0.4751285 | AQ32: =AO32*SIN(RADIANS(AN32)) -> 0.39868015 | AS32: 140 | AT32: =$I$15/2 -> 0.024809448 | AU32: =AT32*COS(RADIANS(AS32)) -> -0.01900514 | AV32: =AT32*SIN(RADIANS(AS32)) -> 0.015947206
AN33: 145 | AO33: =Dimensionamento!$T$18/2 -> 0.6202362 | AP33: =AO33*COS(RADIANS(AN33)) -> -0.50806775 | AQ33: =AO33*SIN(RADIANS(AN33)) -> 0.35575287 | AS33: 145 | AT33: =$I$15/2 -> 0.024809448 | AU33: =AT33*COS(RADIANS(AS33)) -> -0.02032271 | AV33: =AT33*SIN(RADIANS(AS33)) -> 0.014230115
AN34: 150 | AO34: =Dimensionamento!$T$18/2 -> 0.6202362 | AP34: =AO34*COS(RADIANS(AN34)) -> -0.53714031 | AQ34: =AO34*SIN(RADIANS(AN34)) -> 0.3101181 | AS34: 150 | AT34: =$I$15/2 -> 0.024809448 | AU34: =AT34*COS(RADIANS(AS34)) -> -0.021485612 | AV34: =AT34*SIN(RADIANS(AS34)) -> 0.012404724
AN35: 155 | AO35: =Dimensionamento!$T$18/2 -> 0.6202362 | AP35: =AO35*COS(RADIANS(AN35)) -> -0.5621249 | AQ35: =AO35*SIN(RADIANS(AN35)) -> 0.26212315 | AS35: 155 | AT35: =$I$15/2 -> 0.024809448 | AU35: =AT35*COS(RADIANS(AS35)) -> -0.022484996 | AV35: =AT35*SIN(RADIANS(AS35)) -> 0.010484926
AN36: 160 | AO36: =Dimensionamento!$T$18/2 -> 0.6202362 | AP36: =AO36*COS(RADIANS(AN36)) -> -0.58283138 | AQ36: =AO36*SIN(RADIANS(AN36)) -> 0.21213327 | AS36: 160 | AT36: =$I$15/2 -> 0.024809448 | AU36: =AT36*COS(RADIANS(AS36)) -> -0.023313255 | AV36: =AT36*SIN(RADIANS(AS36)) -> 0.008485331
AN37: 165 | AO37: =Dimensionamento!$T$18/2 -> 0.6202362 | AP37: =AO37*COS(RADIANS(AN37)) -> -0.59910217 | AQ37: =AO37*SIN(RADIANS(AN37)) -> 0.16052894 | AS37: 165 | AT37: =$I$15/2 -> 0.024809448 | AU37: =AT37*COS(RADIANS(AS37)) -> -0.023964087 | AV37: =AT37*SIN(RADIANS(AS37)) -> 0.0064211577
R38: =Dimensionamento!T18/2 -> 0.6202362 | AN38: 170 | AO38: =Dimensionamento!$T$18/2 -> 0.6202362 | AP38: =AO38*COS(RADIANS(AN38)) -> -0.61081342 | AQ38: =AO38*SIN(RADIANS(AN38)) -> 0.10770289 | AS38: 170 | AT38: =$I$15/2 -> 0.024809448 | AU38: =AT38*COS(RADIANS(AS38)) -> -0.024432537 | AV38: =AT38*SIN(RADIANS(AS38)) -> 0.0043081155
R39: =I15/2 -> 0.024809448 | AN39: 175 | AO39: =Dimensionamento!$T$18/2 -> 0.6202362 | AP39: =AO39*COS(RADIANS(AN39)) -> -0.61787602 | AQ39: =AO39*SIN(RADIANS(AN39)) -> 0.054057147 | AS39: 175 | AT39: =$I$15/2 -> 0.024809448 | AU39: =AT39*COS(RADIANS(AS39)) -> -0.024715041 | AV39: =AT39*SIN(RADIANS(AS39)) -> 0.0021622859
AN40: 180 | AO40: =Dimensionamento!$T$18/2 -> 0.6202362 | AP40: =AO40*COS(RADIANS(AN40)) -> -0.6202362 | AQ40: =AO40*SIN(RADIANS(AN40)) -> 7.5988143e-17 | AS40: 180 | AT40: =$I$15/2 -> 0.024809448 | AU40: =AT40*COS(RADIANS(AS40)) -> -0.024809448 | AV40: =AT40*SIN(RADIANS(AS40)) -> 3.0395257e-18
AN41: 185 | AO41: =Dimensionamento!$T$18/2 -> 0.6202362 | AP41: =AO41*COS(RADIANS(AN41)) -> -0.61787602 | AQ41: =AO41*SIN(RADIANS(AN41)) -> -0.054057147 | AS41: 185 | AT41: =$I$15/2 -> 0.024809448 | AU41: =AT41*COS(RADIANS(AS41)) -> -0.024715041 | AV41: =AT41*SIN(RADIANS(AS41)) -> -0.0021622859
AN42: 190 | AO42: =Dimensionamento!$T$18/2 -> 0.6202362 | AP42: =AO42*COS(RADIANS(AN42)) -> -0.61081342 | AQ42: =AO42*SIN(RADIANS(AN42)) -> -0.10770289 | AS42: 190 | AT42: =$I$15/2 -> 0.024809448 | AU42: =AT42*COS(RADIANS(AS42)) -> -0.024432537 | AV42: =AT42*SIN(RADIANS(AS42)) -> -0.0043081155
AN43: 195 | AO43: =Dimensionamento!$T$18/2 -> 0.6202362 | AP43: =AO43*COS(RADIANS(AN43)) -> -0.59910217 | AQ43: =AO43*SIN(RADIANS(AN43)) -> -0.16052894 | AS43: 195 | AT43: =$I$15/2 -> 0.024809448 | AU43: =AT43*COS(RADIANS(AS43)) -> -0.023964087 | AV43: =AT43*SIN(RADIANS(AS43)) -> -0.0064211577
AN44: 200 | AO44: =Dimensionamento!$T$18/2 -> 0.6202362 | AP44: =AO44*COS(RADIANS(AN44)) -> -0.58283138 | AQ44: =AO44*SIN(RADIANS(AN44)) -> -0.21213327 | AS44: 200 | AT44: =$I$15/2 -> 0.024809448 | AU44: =AT44*COS(RADIANS(AS44)) -> -0.023313255 | AV44: =AT44*SIN(RADIANS(AS44)) -> -0.008485331
AN45: 205 | AO45: =Dimensionamento!$T$18/2 -> 0.6202362 | AP45: =AO45*COS(RADIANS(AN45)) -> -0.5621249 | AQ45: =AO45*SIN(RADIANS(AN45)) -> -0.26212315 | AS45: 205 | AT45: =$I$15/2 -> 0.024809448 | AU45: =AT45*COS(RADIANS(AS45)) -> -0.022484996 | AV45: =AT45*SIN(RADIANS(AS45)) -> -0.010484926
AN46: 210 | AO46: =Dimensionamento!$T$18/2 -> 0.6202362 | AP46: =AO46*COS(RADIANS(AN46)) -> -0.53714031 | AQ46: =AO46*SIN(RADIANS(AN46)) -> -0.3101181 | AS46: 210 | AT46: =$I$15/2 -> 0.024809448 | AU46: =AT46*COS(RADIANS(AS46)) -> -0.021485612 | AV46: =AT46*SIN(RADIANS(AS46)) -> -0.012404724
AN47: 215 | AO47: =Dimensionamento!$T$18/2 -> 0.6202362 | AP47: =AO47*COS(RADIANS(AN47)) -> -0.50806775 | AQ47: =AO47*SIN(RADIANS(AN47)) -> -0.35575287 | AS47: 215 | AT47: =$I$15/2 -> 0.024809448 | AU47: =AT47*COS(RADIANS(AS47)) -> -0.02032271 | AV47: =AT47*SIN(RADIANS(AS47)) -> -0.014230115
AN48: 220 | AO48: =Dimensionamento!$T$18/2 -> 0.6202362 | AP48: =AO48*COS(RADIANS(AN48)) -> -0.4751285 | AQ48: =AO48*SIN(RADIANS(AN48)) -> -0.39868015 | AS48: 220 | AT48: =$I$15/2 -> 0.024809448 | AU48: =AT48*COS(RADIANS(AS48)) -> -0.01900514 | AV48: =AT48*SIN(RADIANS(AS48)) -> -0.015947206
AN49: 225 | AO49: =Dimensionamento!$T$18/2 -> 0.6202362 | AP49: =AO49*COS(RADIANS(AN49)) -> -0.43857322 | AQ49: =AO49*SIN(RADIANS(AN49)) -> -0.43857322 | AS49: 225 | AT49: =$I$15/2 -> 0.024809448 | AU49: =AT49*COS(RADIANS(AS49)) -> -0.017542929 | AV49: =AT49*SIN(RADIANS(AS49)) -> -0.017542929
AN50: 230 | AO50: =Dimensionamento!$T$18/2 -> 0.6202362 | AP50: =AO50*COS(RADIANS(AN50)) -> -0.39868015 | AQ50: =AO50*SIN(RADIANS(AN50)) -> -0.4751285 | AS50: 230 | AT50: =$I$15/2 -> 0.024809448 | AU50: =AT50*COS(RADIANS(AS50)) -> -0.015947206 | AV50: =AT50*SIN(RADIANS(AS50)) -> -0.01900514
AN51: 235 | AO51: =Dimensionamento!$T$18/2 -> 0.6202362 | AP51: =AO51*COS(RADIANS(AN51)) -> -0.35575287 | AQ51: =AO51*SIN(RADIANS(AN51)) -> -0.50806775 | AS51: 235 | AT51: =$I$15/2 -> 0.024809448 | AU51: =AT51*COS(RADIANS(AS51)) -> -0.014230115 | AV51: =AT51*SIN(RADIANS(AS51)) -> -0.02032271
... AN76: 360 | AO76: =Dimensionamento!$T$18/2 -> 0.6202362 | AP76: =AO76*COS(RADIANS(AN76)) -> 0.6202362 | AQ76: =AO76*SIN(RADIANS(AN76)) -> -1.5197629e-16 | AS76: 360 | AT76: =$I$15/2 -> 0.024809448 | AU76: =AT76*COS(RADIANS(AS76)) -> 0.024809448 | AV76: =AT76*SIN(RADIANS(AS76)) -> -6.0790514e-18

Sheet Cordins
B1: CORDINS
B3: INSTRUÇÕES
B4: Objetivo da Aba: Com a relação L/d desejada, calcular o comprimento útil, o comrpimento de corte e o esforço de tração estática em cada cordim. Ainda não consideramos esforços dinâmicos relacionados à desaceleração do sistema velame-carga na implantação.
AO6: Cota do comprimento dos cordins
AO7: Ponto | AP7: ="x [cm]" -> x [cm] | AQ7: ="y [cm]" -> y [cm] | AR7: ="-x [cm]" -> -x [cm]
AO8: P1 | AP8: 0 | AQ8: 0 | AR8: =Gomos!I19*2 -> 1.2404724
B9: DADOS DE ENTRADA | M9: RESULTADOS | AO9: P2 | AP9: =AP10/2 -> 0.3101181 | AQ9: =AQ10/2 -> -1.8346834 | AR9: =AP9+Gomos!I19 -> 0.9303543
AO10: P3 | AP10: =Gomos!I19 -> 0.6202362 | AQ10: =-SIN(RADIANS(I32))*I22 -> -3.6693669 | AR10: =AP10 -> 0.6202362
B11: L/d | C11: Relação L/d | M11: TeC | N11: Tração estática em cada cordim | AO11: =ROUND(I22,3)&" m" -> 3,721 m
C12: Elemento | H12: Unid | I12: Valor | N12: Elemento | S12: Unid | T12: Valor | AO12: ="θ: "&ROUND(I32,1)&" °" -> θ: 80,4 °
C13: L/d - Relação L/d | H13: [-] | I13: 3 | N13: TeC - Tração estática em cada cordim | S13: [kgf] | T13: =Dimensionamento!I13/(I18*SIN(RADIANS(I32))) -> 0.42257713
C14: Cada cordim deve ter comprimento de no mínimo 1,5 x o dVelame
B16: nC | C16: Número de cordins
C17: Elemento | H17: Unid | I17: Valor
C18: nC - Número de cordins | H18: [-] | I18: =Gomos!I13 -> 12
B20: ε | C20: Dimensões do cordim | T20: 〖A_r=(2 m g ⃗)/(ρ C_d 〖V_t〗^2 ) " " →A〗_r=A_p=(π d^2)/4→d=√((4 A_p)/π)
C21: Elemento | H21: Unid | I21: Valor | U21: 〖A_r=(2 m g ⃗)/(ρ C_d 〖V_t〗^2 ) " " →A〗_r=A_p=(π d^2)/4→d=√((4 A_p)/π)
C22: L - Comprimento de cada cordim | H22: [m] | I22: =Dimensionamento!T18*I13 -> 3.7214172
B24: Corte | C24: Dimensões de corte
C25: Elemento | H25: Unid | I25: Valor
C26: c - Margem de costura e amarrações | H26: [cm] | I26: 20 | W26: 〖A_r=(2 m g ⃗)/(ρ C_d 〖V_t〗^2 ) " " →A〗_r=A_p=(π d^2)/4→d=√((4 A_p)/π)
C27: Recomenda-se pelo menos 20 cm de margem em cada cordim
C28: Lc - Comprimento de corte | H28: [m] | I28: =I22+I26/100 -> 3.9214172
B30: θ | C30: Ângulo formado entre os cordins e o velame
C31: Elemento | H31: Unid | I31: Valor
C32: θ - Ângulo formado entre os cordins e a base do velame | H32: [°] | I32: =DEGREES(ACOS((Dimensionamento!T18/2)/I22)) -> 80.405932
C33: O valor deve ser superior a 70°

Sheet Escalas
B1: ESCALAS
V6: LINHAS VERMELHAS - ÁREA ÚTIL | AE6: LINHAS TRACEJADAS - CORTE ✂
B8: DIMENSÕES DO GOMO CALCULADO | G8: LINHAS DA ESCALA - GOMO DE 1 m DE DIÂMETRO | P8: LINHAS CALCULADAS | V8: COORDENADAS NO EIXO x | AB8: COORD EIXO y | AE8: COORDENADAS NO EIXO x | AK8: COORD EIXO y
B10: G | C10: Dados do gomo calculado | G10: Linhas Horizontais - 12 G | J10: Linhas Horizontais - 8 G | M10: Linhas Verticais | P10: Linhas Horizontais | S10: Linhas Verticais | V10: Coord. x da linha esquerda | Y10: Coord. x da linha direita | AB10: Coord. y de ambas as linhas | AE10: Coord. x da linha esquerda | AH10: Coord. x da linha direita | AK10: Coord. y de ambas as linhas
C11: Elemento | D11: Unid | E11: Valor | G11: Linha | H11: Dimensão [cm] | J11: Linha | K11: Dimensão [cm] | M11: Linha | N11: Dimensão [cm] | P11: Linha | Q11: Dimensão [cm] | S11: Linha | T11: Dimensão [cm]
C12: nG - Número de gomos | D12: [-] | E12: =Gomos!I13 -> 12 | G12: H1esc | H12: 13.09 | J12: H1esc | K12: 19.635 | M12: V0esc | N12: 0 | P12: H1 | Q12: =IF($E$12=12,H12*$H$25,IF($E$12=8,K12*$H$25)) -> 16.237746 | S12: V0 | T12: =N12*$H$25 -> 0 | V12: Ponto | W12: ="-x [cm]" -> -x [cm] | Y12: Ponto | Z12: ="x [cm]" -> x [cm] | AB12: Ponto | AC12: ="y [cm]" -> y [cm] | AE12: Ponto | AF12: ="-x [cm]" -> -x [cm] | AH12: Ponto | AI12: ="x [cm]" -> x [cm] | AK12: Ponto | AL12: ="y [cm]" -> y [cm]
C13: xG - Base do gomo | D13: [cm] | E13: =Gomos!I23*100 -> 32.475492 | G13: H2esc | H13: 12.76 | J13: H2esc | K13: 18.933 | M13: V1esc | N13: 8 | P13: H2 | Q13: =IF($E$12=12,H13*$H$25,IF($E$12=8,K13*$H$25)) -> 15.828391 | S13: V1 | T13: =N13*$H$25 -> 9.923756 | V13: ="-"&Y13 -> -P1 | W13: =-Z13 -> -16.237746 | Y13: P1 | Z13: =Q12 -> 16.237746 | AB13: =Y13 -> P1 | AC13: =T12 -> 0 | AE13: ="-"&AH13 -> -P0 | AF13: =-AI13 -> -18.237746 | AH13: P0 | AI13: =Z13+Gomos!$I$29 -> 18.237746 | AK13: P0 | AL13: =-Gomos!I29 -> -2
C14: yG - Altura do gomo | D14: [cm] | E14: =Gomos!I24*100 -> 80.407421 | G14: H3esc | H14: 10.79 | J14: H3esc | K14: 16.12 | M14: V2esc | N14: 14 | P14: H3 | Q14: =IF($E$12=12,H14*$H$25,IF($E$12=8,K14*$H$25)) -> 13.384666 | S14: V2 | T14: =N14*$H$25 -> 17.366573 | V14: ="-"&Y14 -> -P2 | W14: =-Z14 -> -15.828391 | Y14: P2 | Z14: =Q13 -> 15.828391 | AB14: =Y14 -> P2 | AC14: =T13+AC13 -> 9.923756 | AE14: ="-"&AH14 -> -P1 | AF14: =-AI14 -> -18.237746 | AH14: P1 | AI14: =Z13+Gomos!$I$29 -> 18.237746 | AK14: =AH14 -> P1 | AL14: 0
G15: H4esc | H15: 8.6 | J15: H4esc | K15: 12.97 | M15: V3esc | N15: 10 | P15: H4 | Q15: =IF($E$12=12,H15*$H$25,IF($E$12=8,K15*$H$25)) -> 10.668038 | S15: V3 | T15: =N15*$H$25 -> 12.404695 | V15: ="-"&Y15 -> -P3 | W15: =-Z15 -> -13.384666 | Y15: P3 | Z15: =Q14 -> 13.384666 | AB15: =Y15 -> P3 | AC15: =T14+AC14 -> 27.290329 | AE15: ="-"&AH15 -> -P2 | AF15: =-AI15 -> -17.828391 | AH15: P2 | AI15: =Z14+Gomos!$I$29 -> 17.828391 | AK15: =AH15 -> P2 | AL15: =AC14 -> 9.923756
G16: H5esc | H16: 6.75 | J16: H5esc | K16: 9.81 | M16: V4esc | N16: 8 | P16: H5 | Q16: =IF($E$12=12,H16*$H$25,IF($E$12=8,K16*$H$25)) -> 8.3731692 | S16: V4 | T16: =N16*$H$25 -> 9.923756 | V16: ="-"&Y16 -> -P4 | W16: =-Z16 -> -10.668038 | Y16: P4 | Z16: =Q15 -> 10.668038 | AB16: =Y16 -> P4 | AC16: =T15+AC15 -> 39.695024 | AE16: ="-"&AH16 -> -P3 | AF16: =-AI16 -> -15.384666 | AH16: P3 | AI16: =Z15+Gomos!$I$29 -> 15.384666 | AK16: =AH16 -> P3 | AL16: =AC15 -> 27.290329
G17: H6esc | H17: 4.58 | J17: H6esc | K17: 6.66 | M17: V5esc | N17: 8 | P17: H6 | Q17: =IF($E$12=12,H17*$H$25,IF($E$12=8,K17*$H$25)) -> 5.6813503 | S17: V5 | T17: =N17*$H$25 -> 9.923756 | V17: ="-"&Y17 -> -P5 | W17: =-Z17 -> -8.3731692 | Y17: P5 | Z17: =Q16 -> 8.3731692 | AB17: =Y17 -> P5 | AC17: =T16+AC16 -> 49.61878 | AE17: ="-"&AH17 -> -P4 | AF17: =-AI17 -> -12.668038 | AH17: P4 | AI17: =Z16+Gomos!$I$29 -> 12.668038 | AK17: =AH17 -> P4 | AL17: =AC16 -> 39.695024
G18: H7esc | H18: 2.94 | J18: H7esc | K18: 4.2 | M18: V6esc | N18: 6 | P18: H7 | Q18: =IF($E$12=12,H18*$H$25,IF($E$12=8,K18*$H$25)) -> 3.6469803 | S18: V6 | T18: =N18*$H$25 -> 7.442817 | V18: ="-"&Y18 -> -P6 | W18: =-Z18 -> -5.6813503 | Y18: P6 | Z18: =Q17 -> 5.6813503 | AB18: =Y18 -> P6 | AC18: =T17+AC17 -> 59.542536 | AE18: ="-"&AH18 -> -P5 | AF18: =-AI18 -> -10.373169 | AH18: P5 | AI18: =Z17+Gomos!$I$29 -> 10.373169 | AK18: =AH18 -> P5 | AL18: =AC17 -> 49.61878
G19: H0esc | H19: 0 | J19: H0esc | K19: 0 | M19: V7esc | N19: 10.82 | P19: H0 | Q19: =IF($E$12=12,H19*$H$25,IF($E$12=8,K19*$H$25)) -> 0 | S19: V7 | T19: =N19*$H$25 -> 13.42188 | V19: ="-"&Y19 -> -P7 | W19: =-Z19 -> -3.6469803 | Y19: P7 | Z19: =Q18 -> 3.6469803 | AB19: =Y19 -> P7 | AC19: =T18+AC18 -> 66.985353 | AE19: ="-"&AH19 -> -P6 | AF19: =-AI19 -> -7.6813503 | AH19: P6 | AI19: =Z18+Gomos!$I$29 -> 7.6813503 | AK19: =AH19 -> P6 | AL19: =AC18 -> 59.542536
H20: =H12*2 -> 26.18 | K20: =K12*2 -> 39.27 | N20: =SUM(N12:N19) -> 64.82 | V20: ="-"&Y20 -> -P8 | W20: =-Z20 -> 0 | Y20: P8 | Z20: =Q19 -> 0 | AB20: =Y20 -> P8 | AC20: =T19+AC19 -> 80.407233 | AE20: ="-"&AH20 -> -P7 | AF20: =-AI20 -> -5.6469803 | AH20: P7 | AI20: =Z19+Gomos!$I$29 -> 5.6469803 | AK20: =AH20 -> P7 | AL20: =AC19 -> 66.985353
G21: xGesc | H21: 26.18 | J21: xGesc | K21: 39.27 | M21: yGesc | N21: 64.82 | P21: xG | Q21: =Q12*2 -> 32.475492 | S21: yG | T21: =SUM(T12:T19) -> 80.407233 | AE21: ="-"&AH21 -> -P8 | AF21: =-AI21 -> -2 | AH21: P8 | AI21: =Z20+Gomos!$I$29 -> 2 | AK21: =AH21 -> P8 | AL21: =AC20 -> 80.407233
G24: Fe | H24: Fator de escala | V24: Coordenadas da linha vermelha inferior | AE24: Coordenadas da linha tracejada superior
H25: =IF(E12=12,E13/H21,IF(E12=8,E13/K21)) -> 1.2404695 | V25: Ponto | W25: x [cm] | AC25: ="y [cm]" -> y [cm] | AE25: Ponto | AF25: x [cm] | AL25: ="y [cm]" -> y [cm]
B26: NG | C26: Número de gomos | V26: ="-P1" -> -P1 | W26: =-W27 -> -16.237746 | AC26: 0 | AE26: ="-P1" -> -P1 | AF26: =-Gomos!I29 -> -2 | AL26: =E14 -> 80.407421
V27: =" P1" -> P1 | W27: =E13/2 -> 16.237746 | AC27: 0 | AE27: =" P1" -> P1 | AF27: =Gomos!I29 -> 2 | AL27: =E14 -> 80.407421
G28: As dimensões acima correspondem ao molde de gomo disponibilizado por Richard Nakka em sua planilha Parapat v1.1
B29: G | C29: Dimens do gomo calculado
C30: xG
C31: yG
